BEGIN:VCALENDAR
VERSION:2.0
PRODID:-//Mill Hall Borough - ECPv6.15.20//NONSGML v1.0//EN
CALSCALE:GREGORIAN
METHOD:PUBLISH
X-ORIGINAL-URL:https://millhallboroughpa.org
X-WR-CALDESC:Events for Mill Hall Borough
REFRESH-INTERVAL;VALUE=DURATION:PT1H
X-Robots-Tag:noindex
X-PUBLISHED-TTL:PT1H
BEGIN:VTIMEZONE
TZID:America/New_York
BEGIN:DAYLIGHT
TZOFFSETFROM:-0500
TZOFFSETTO:-0400
TZNAME:EDT
DTSTART:20250309T070000
END:DAYLIGHT
BEGIN:STANDARD
TZOFFSETFROM:-0400
TZOFFSETTO:-0500
TZNAME:EST
DTSTART:20251102T060000
END:STANDARD
BEGIN:DAYLIGHT
TZOFFSETFROM:-0500
TZOFFSETTO:-0400
TZNAME:EDT
DTSTART:20260308T070000
END:DAYLIGHT
BEGIN:STANDARD
TZOFFSETFROM:-0400
TZOFFSETTO:-0500
TZNAME:EST
DTSTART:20261101T060000
END:STANDARD
BEGIN:DAYLIGHT
TZOFFSETFROM:-0500
TZOFFSETTO:-0400
TZNAME:EDT
DTSTART:20270314T070000
END:DAYLIGHT
BEGIN:STANDARD
TZOFFSETFROM:-0400
TZOFFSETTO:-0500
TZNAME:EST
DTSTART:20271107T060000
END:STANDARD
END:VTIMEZONE
BEGIN:VEVENT
DTSTART;TZID=America/New_York:20261012T190000
DTEND;TZID=America/New_York:20261012T190000
DTSTAMP:20260423T212300
CREATED:20251217T171535Z
LAST-MODIFIED:20251217T171539Z
UID:1262-1791831600-1791831600@millhallboroughpa.org
SUMMARY:Sewer/Highway Committee-Oct 12\, 2026
DESCRIPTION:Sewer/Highway Meetings are held the 2nd Monday of each month at 7:00 p.m. at Mill Hall borough building\, 215 Beech Creek Avenue\, Mill Hall\, PA 17751.
URL:https://millhallboroughpa.org/event/sewer-highway-committee-oct-12-2026/
ATTACH;FMTTYPE=image/jpeg:https://millhallboroughpa.org/wp-content/uploads/2025/02/Mill-Hall-Borough-Pennsylvania-Logo.jpg
END:VEVENT
BEGIN:VEVENT
DTSTART;TZID=America/New_York:20261014T190000
DTEND;TZID=America/New_York:20261014T190000
DTSTAMP:20260423T212300
CREATED:20251217T174310Z
LAST-MODIFIED:20251217T174314Z
UID:1287-1792004400-1792004400@millhallboroughpa.org
SUMMARY:Park & Recreation and Ordinance Committees-Oct 14\, 2026
DESCRIPTION:Park & Recreation and Ordinance Committees are held the 2nd Wednesday of each month at 7:00 p.m. at Mill Hall borough building\, 215 Beech Creek Avenue\, Mill Hall\, PA 17751.
URL:https://millhallboroughpa.org/event/park-recreation-and-ordinance-committees-oct-14-2026/
ATTACH;FMTTYPE=image/jpeg:https://millhallboroughpa.org/wp-content/uploads/2025/02/Mill-Hall-Borough-Pennsylvania-Logo.jpg
END:VEVENT
BEGIN:VEVENT
DTSTART;TZID=America/New_York:20261021T190000
DTEND;TZID=America/New_York:20261021T190000
DTSTAMP:20260423T212300
CREATED:20251217T175914Z
LAST-MODIFIED:20251217T180047Z
UID:1311-1792609200-1792609200@millhallboroughpa.org
SUMMARY:Safety and Personnel Committees-Oct 21\, 2026
DESCRIPTION:Safety and Personnel Committees are held the 3rd Wednesday of each month at 7:00 p.m. at Mill Hall borough building\, 215 Beech Creek Avenue\, Mill Hall\, PA 17751.
URL:https://millhallboroughpa.org/event/safety-and-personnel-committees-oct-21-2026/
ATTACH;FMTTYPE=image/jpeg:https://millhallboroughpa.org/wp-content/uploads/2025/02/Mill-Hall-Borough-Pennsylvania-Logo.jpg
END:VEVENT
BEGIN:VEVENT
DTSTART;TZID=America/New_York:20261027T190000
DTEND;TZID=America/New_York:20261027T190000
DTSTAMP:20260423T212300
CREATED:20251217T162733Z
LAST-MODIFIED:20251217T162738Z
UID:1237-1793127600-1793127600@millhallboroughpa.org
SUMMARY:Council Meeting - October 27
DESCRIPTION:Come find out all that is happening in Mill Hall Borough! We love seeing our residents every fourth Tuesday of the month. 215 Beech Creek Avenue\, Mill Hall\, PA 17751.
URL:https://millhallboroughpa.org/event/council-meeting-october-27/
ATTACH;FMTTYPE=image/jpeg:https://millhallboroughpa.org/wp-content/uploads/2025/02/Mill-Hall-Borough-Pennsylvania-Logo.jpg
END:VEVENT
END:VCALENDAR