BEGIN:VCALENDAR
VERSION:2.0
PRODID:-//Mill Hall Borough - ECPv6.15.20//NONSGML v1.0//EN
CALSCALE:GREGORIAN
METHOD:PUBLISH
X-WR-CALNAME:Mill Hall Borough
X-ORIGINAL-URL:https://millhallboroughpa.org
X-WR-CALDESC:Events for Mill Hall Borough
REFRESH-INTERVAL;VALUE=DURATION:PT1H
X-Robots-Tag:noindex
X-PUBLISHED-TTL:PT1H
BEGIN:VTIMEZONE
TZID:America/New_York
BEGIN:DAYLIGHT
TZOFFSETFROM:-0500
TZOFFSETTO:-0400
TZNAME:EDT
DTSTART:20250309T070000
END:DAYLIGHT
BEGIN:STANDARD
TZOFFSETFROM:-0400
TZOFFSETTO:-0500
TZNAME:EST
DTSTART:20251102T060000
END:STANDARD
BEGIN:DAYLIGHT
TZOFFSETFROM:-0500
TZOFFSETTO:-0400
TZNAME:EDT
DTSTART:20260308T070000
END:DAYLIGHT
BEGIN:STANDARD
TZOFFSETFROM:-0400
TZOFFSETTO:-0500
TZNAME:EST
DTSTART:20261101T060000
END:STANDARD
BEGIN:DAYLIGHT
TZOFFSETFROM:-0500
TZOFFSETTO:-0400
TZNAME:EDT
DTSTART:20270314T070000
END:DAYLIGHT
BEGIN:STANDARD
TZOFFSETFROM:-0400
TZOFFSETTO:-0500
TZNAME:EST
DTSTART:20271107T060000
END:STANDARD
END:VTIMEZONE
BEGIN:VEVENT
DTSTART;VALUE=DATE:20260703
DTEND;VALUE=DATE:20260704
DTSTAMP:20260423T160843
CREATED:20251217T180903Z
LAST-MODIFIED:20251217T180911Z
UID:1318-1783036800-1783123199@millhallboroughpa.org
SUMMARY:Borough Office Closed
DESCRIPTION:The Mill Hall Borough Office is Closed Today for the Holiday.
URL:https://millhallboroughpa.org/event/borough-office-closed-7/
ATTACH;FMTTYPE=image/jpeg:https://millhallboroughpa.org/wp-content/uploads/2025/02/Mill-Hall-Borough-Pennsylvania-Logo.jpg
END:VEVENT
BEGIN:VEVENT
DTSTART;TZID=America/New_York:20260708T190000
DTEND;TZID=America/New_York:20260708T190000
DTSTAMP:20260423T160843
CREATED:20251217T173903Z
LAST-MODIFIED:20251217T173907Z
UID:1281-1783537200-1783537200@millhallboroughpa.org
SUMMARY:Park & Recreation and Ordinance Committees-July 8\, 2026
DESCRIPTION:Park & Recreation and Ordinance Committees are held the 2nd Wednesday of each month at 7:00 p.m. at Mill Hall borough building\, 215 Beech Creek Avenue\, Mill Hall\, PA 17751.
URL:https://millhallboroughpa.org/event/park-recreation-and-ordinance-committees-july-8-2026/
ATTACH;FMTTYPE=image/jpeg:https://millhallboroughpa.org/wp-content/uploads/2025/02/Mill-Hall-Borough-Pennsylvania-Logo.jpg
END:VEVENT
BEGIN:VEVENT
DTSTART;TZID=America/New_York:20260713T190000
DTEND;TZID=America/New_York:20260713T190000
DTSTAMP:20260423T160843
CREATED:20251217T171135Z
LAST-MODIFIED:20251217T171139Z
UID:1256-1783969200-1783969200@millhallboroughpa.org
SUMMARY:Sewer/Highway Committee-July 13\, 2026
DESCRIPTION:Sewer/Highway Meetings are held the 2nd Monday of each month at 7:00 p.m. at Mill Hall borough building\, 215 Beech Creek Avenue\, Mill Hall\, PA 17751.
URL:https://millhallboroughpa.org/event/sewer-highway-committee-july-13-2026/
ATTACH;FMTTYPE=image/jpeg:https://millhallboroughpa.org/wp-content/uploads/2025/02/Mill-Hall-Borough-Pennsylvania-Logo.jpg
END:VEVENT
BEGIN:VEVENT
DTSTART;TZID=America/New_York:20260715T190000
DTEND;TZID=America/New_York:20260715T190000
DTSTAMP:20260423T160843
CREATED:20251217T175618Z
LAST-MODIFIED:20251217T175622Z
UID:1305-1784142000-1784142000@millhallboroughpa.org
SUMMARY:Safety and Personnel Committees-July 15\, 2026
DESCRIPTION:Safety and Personnel Committees are held the 3rd Wednesday of each month at 7:00 p.m. at Mill Hall borough building\, 215 Beech Creek Avenue\, Mill Hall\, PA 17751.
URL:https://millhallboroughpa.org/event/safety-and-personnel-committees-july-15-2026/
ATTACH;FMTTYPE=image/jpeg:https://millhallboroughpa.org/wp-content/uploads/2025/02/Mill-Hall-Borough-Pennsylvania-Logo.jpg
END:VEVENT
BEGIN:VEVENT
DTSTART;TZID=America/New_York:20260728T190000
DTEND;TZID=America/New_York:20260728T190000
DTSTAMP:20260423T160843
CREATED:20251217T162510Z
LAST-MODIFIED:20251217T162525Z
UID:1231-1785265200-1785265200@millhallboroughpa.org
SUMMARY:Council Meeting - July 28
DESCRIPTION:Come find out all that is happening in Mill Hall Borough! We love seeing our residents every fourth Tuesday of the month. 215 Beech Creek Avenue\, Mill Hall\, PA 17751.
URL:https://millhallboroughpa.org/event/council-meeting-july-28/
ATTACH;FMTTYPE=image/jpeg:https://millhallboroughpa.org/wp-content/uploads/2025/02/Mill-Hall-Borough-Pennsylvania-Logo.jpg
END:VEVENT
END:VCALENDAR