BEGIN:VCALENDAR
VERSION:2.0
PRODID:-//Mill Hall Borough - ECPv6.15.20//NONSGML v1.0//EN
CALSCALE:GREGORIAN
METHOD:PUBLISH
X-ORIGINAL-URL:https://millhallboroughpa.org
X-WR-CALDESC:Events for Mill Hall Borough
REFRESH-INTERVAL;VALUE=DURATION:PT1H
X-Robots-Tag:noindex
X-PUBLISHED-TTL:PT1H
BEGIN:VTIMEZONE
TZID:America/New_York
BEGIN:DAYLIGHT
TZOFFSETFROM:-0500
TZOFFSETTO:-0400
TZNAME:EDT
DTSTART:20240310T070000
END:DAYLIGHT
BEGIN:STANDARD
TZOFFSETFROM:-0400
TZOFFSETTO:-0500
TZNAME:EST
DTSTART:20241103T060000
END:STANDARD
BEGIN:DAYLIGHT
TZOFFSETFROM:-0500
TZOFFSETTO:-0400
TZNAME:EDT
DTSTART:20250309T070000
END:DAYLIGHT
BEGIN:STANDARD
TZOFFSETFROM:-0400
TZOFFSETTO:-0500
TZNAME:EST
DTSTART:20251102T060000
END:STANDARD
BEGIN:DAYLIGHT
TZOFFSETFROM:-0500
TZOFFSETTO:-0400
TZNAME:EDT
DTSTART:20260308T070000
END:DAYLIGHT
BEGIN:STANDARD
TZOFFSETFROM:-0400
TZOFFSETTO:-0500
TZNAME:EST
DTSTART:20261101T060000
END:STANDARD
END:VTIMEZONE
BEGIN:VEVENT
DTSTART;TZID=America/New_York:20251202T063000
DTEND;TZID=America/New_York:20251202T063000
DTSTAMP:20260423T175849
CREATED:20250924T140003Z
LAST-MODIFIED:20250924T141143Z
UID:1068-1764657000-1764657000@millhallboroughpa.org
SUMMARY:Fall Leaf Pick-Up
DESCRIPTION:2025 Mill Hall Borough Fall Leaf Pick-Up \nNovember 4\, November 18\, November 25\, December 2 \nPlease Put Bagged Leaves at Curb Side. No Tree Branches\, Grass Clippings or Garbage Allowed.
URL:https://millhallboroughpa.org/event/fall-leaf-pick/
ATTACH;FMTTYPE=image/jpeg:https://millhallboroughpa.org/wp-content/uploads/2025/02/Mill-Hall-Borough-Pennsylvania-Logo.jpg
END:VEVENT
BEGIN:VEVENT
DTSTART;TZID=America/New_York:20251208T190000
DTEND;TZID=America/New_York:20251208T200000
DTSTAMP:20260423T175849
CREATED:20250423T191955Z
LAST-MODIFIED:20250423T191955Z
UID:676-1765220400-1765224000@millhallboroughpa.org
SUMMARY:Sewer/Highway Committee-December 8\, 2025
DESCRIPTION:Sewer/Highway Meetings are held the 2nd Monday of each month at 7:00 p.m. at Mill Hall borough building\, 215 Beech Creek Avenue\, Mill Hall\, PA 17751.
URL:https://millhallboroughpa.org/event/sewer-highway-committee-december-8-2025/
LOCATION:Mill Hall Borough Office\, 215 Beech Creek Avenue\, Mill Hall\, PA\, 17751
ATTACH;FMTTYPE=image/jpeg:https://millhallboroughpa.org/wp-content/uploads/2025/02/Mill-Hall-Borough-Pennsylvania-Logo.jpg
END:VEVENT
BEGIN:VEVENT
DTSTART;TZID=America/New_York:20251210T190000
DTEND;TZID=America/New_York:20251210T200000
DTSTAMP:20260423T175849
CREATED:20250423T194305Z
LAST-MODIFIED:20250423T194305Z
UID:724-1765393200-1765396800@millhallboroughpa.org
SUMMARY:Park & Recreation Committee-December 10\, 2025
DESCRIPTION:Park & Recreation Committee Meetings are held the 2nd Wednesday of each month at 7:00 p.m. at Mill Hall borough building\, 215 Beech Creek Avenue\, Mill Hall\, PA 17751.
URL:https://millhallboroughpa.org/event/park-recreation-committee-december-10-2025/
LOCATION:Mill Hall Borough Office\, 215 Beech Creek Avenue\, Mill Hall\, PA\, 17751
ATTACH;FMTTYPE=image/jpeg:https://millhallboroughpa.org/wp-content/uploads/2025/02/Mill-Hall-Borough-Pennsylvania-Logo.jpg
END:VEVENT
BEGIN:VEVENT
DTSTART;TZID=America/New_York:20251210T190000
DTEND;TZID=America/New_York:20251210T200000
DTSTAMP:20260423T175849
CREATED:20250423T195356Z
LAST-MODIFIED:20251126T141048Z
UID:748-1765393200-1765396800@millhallboroughpa.org
SUMMARY:Personnel Committee-December 10\, 2025
DESCRIPTION:Personnel Committee Meetings are held the 3rd Thursday of each month at 7:00 p.m. at Mill Hall borough building\, 215 Beech Creek Avenue\, Mill Hall\, PA 17751.  THIS IS A SPECIAL MEETING DUE TO THE HOLIDAY.
URL:https://millhallboroughpa.org/event/personnel-committee-december-18-2025/
LOCATION:Mill Hall Borough Office\, 215 Beech Creek Avenue\, Mill Hall\, PA\, 17751
ATTACH;FMTTYPE=image/jpeg:https://millhallboroughpa.org/wp-content/uploads/2025/02/Mill-Hall-Borough-Pennsylvania-Logo.jpg
END:VEVENT
BEGIN:VEVENT
DTSTART;TZID=America/New_York:20251210T190000
DTEND;TZID=America/New_York:20251210T200000
DTSTAMP:20260423T175849
CREATED:20250423T200630Z
LAST-MODIFIED:20251126T140936Z
UID:772-1765393200-1765396800@millhallboroughpa.org
SUMMARY:Safety Committee-December 10\, 2025
DESCRIPTION:Safety Committee Meetings are held the 3rd Wednesday of each month at 7:00 p.m. at Mill Hall borough building\, 215 Beech Creek Avenue\, Mill Hall\, PA 17751. THIS IS A SPECIAL MEETING DATE DUE TO THE HOLIDAY.
URL:https://millhallboroughpa.org/event/safety-committee-december-17-2025/
LOCATION:Mill Hall Borough Office\, 215 Beech Creek Avenue\, Mill Hall\, PA\, 17751
ATTACH;FMTTYPE=image/jpeg:https://millhallboroughpa.org/wp-content/uploads/2025/02/Mill-Hall-Borough-Pennsylvania-Logo.jpg
END:VEVENT
BEGIN:VEVENT
DTSTART;TZID=America/New_York:20251211T190000
DTEND;TZID=America/New_York:20251211T200000
DTSTAMP:20260423T175849
CREATED:20250423T193107Z
LAST-MODIFIED:20250423T193107Z
UID:700-1765479600-1765483200@millhallboroughpa.org
SUMMARY:Ordinance Committee-December 11\, 2025
DESCRIPTION:Ordinance Committee Meetings are held the 2nd Thursday of each month at 7:00 p.m. at Mill Hall borough building\, 215 Beech Creek Avenue\, Mill Hall\, PA 17751.
URL:https://millhallboroughpa.org/event/ordinance-committee-december-11-2025/
LOCATION:Mill Hall Borough Office\, 215 Beech Creek Avenue\, Mill Hall\, PA\, 17751
ATTACH;FMTTYPE=image/jpeg:https://millhallboroughpa.org/wp-content/uploads/2025/02/Mill-Hall-Borough-Pennsylvania-Logo.jpg
END:VEVENT
BEGIN:VEVENT
DTSTART;TZID=America/New_York:20251216T190000
DTEND;TZID=America/New_York:20251216T200000
DTSTAMP:20260423T175849
CREATED:20250312T223230Z
LAST-MODIFIED:20250423T175332Z
UID:444-1765911600-1765915200@millhallboroughpa.org
SUMMARY:Council Meeting - December 2025
DESCRIPTION:Come find out all that is happening in Mill Hall Borough! We love seeing our residents every fourth Tuesday of the month. Our next township meeting is Tuesday\, December 16\, 2025 at 7:00 p.m. at our borough building\, 215 Beech Creek Avenue\, Mill Hall\, PA 17751.
URL:https://millhallboroughpa.org/event/council-meeting-december-2025/
LOCATION:Mill Hall Borough Office\, 215 Beech Creek Avenue\, Mill Hall\, PA\, 17751
ATTACH;FMTTYPE=image/jpeg:https://millhallboroughpa.org/wp-content/uploads/2025/02/Mill-Hall-Borough-Pennsylvania-Logo.jpg
END:VEVENT
BEGIN:VEVENT
DTSTART;TZID=America/New_York:20251218T120000
DTEND;TZID=America/New_York:20251218T163000
DTSTAMP:20260423T175849
CREATED:20251217T161233Z
LAST-MODIFIED:20251217T161233Z
UID:1218-1766059200-1766075400@millhallboroughpa.org
SUMMARY:Borough Office Closed
DESCRIPTION:The Mill Hall Borough Office is Closed Today for the Holiday.
URL:https://millhallboroughpa.org/event/borough-office-closed-5/
ATTACH;FMTTYPE=image/jpeg:https://millhallboroughpa.org/wp-content/uploads/2025/02/Mill-Hall-Borough-Pennsylvania-Logo.jpg
END:VEVENT
BEGIN:VEVENT
DTSTART;VALUE=DATE:20251219
DTEND;VALUE=DATE:20251220
DTSTAMP:20260423T175849
CREATED:20251217T161100Z
LAST-MODIFIED:20251217T161100Z
UID:1216-1766102400-1766188799@millhallboroughpa.org
SUMMARY:Borough Office Closed
DESCRIPTION:The Mill Hall Borough Office is Closed Today.
URL:https://millhallboroughpa.org/event/borough-office-closed-4/
ATTACH;FMTTYPE=image/jpeg:https://millhallboroughpa.org/wp-content/uploads/2025/02/Mill-Hall-Borough-Pennsylvania-Logo.jpg
END:VEVENT
BEGIN:VEVENT
DTSTART;TZID=America/New_York:20251224T000000
DTEND;TZID=America/New_York:20251226T000000
DTSTAMP:20260423T175849
CREATED:20250812T182441Z
LAST-MODIFIED:20250812T182441Z
UID:988-1766534400-1766707200@millhallboroughpa.org
SUMMARY:Borough Office Closed
DESCRIPTION:The Mill Hall Borough Office is Closed Today for the Holiday.
URL:https://millhallboroughpa.org/event/borough-office-closed-2/
ATTACH;FMTTYPE=image/jpeg:https://millhallboroughpa.org/wp-content/uploads/2025/02/Mill-Hall-Borough-Pennsylvania-Logo.jpg
END:VEVENT
END:VCALENDAR