BEGIN:VCALENDAR
VERSION:2.0
PRODID:-//Mill Hall Borough - ECPv6.15.20//NONSGML v1.0//EN
CALSCALE:GREGORIAN
METHOD:PUBLISH
X-ORIGINAL-URL:https://millhallboroughpa.org
X-WR-CALDESC:Events for Mill Hall Borough
REFRESH-INTERVAL;VALUE=DURATION:PT1H
X-Robots-Tag:noindex
X-PUBLISHED-TTL:PT1H
BEGIN:VTIMEZONE
TZID:America/New_York
BEGIN:DAYLIGHT
TZOFFSETFROM:-0500
TZOFFSETTO:-0400
TZNAME:EDT
DTSTART:20250309T070000
END:DAYLIGHT
BEGIN:STANDARD
TZOFFSETFROM:-0400
TZOFFSETTO:-0500
TZNAME:EST
DTSTART:20251102T060000
END:STANDARD
BEGIN:DAYLIGHT
TZOFFSETFROM:-0500
TZOFFSETTO:-0400
TZNAME:EDT
DTSTART:20260308T070000
END:DAYLIGHT
BEGIN:STANDARD
TZOFFSETFROM:-0400
TZOFFSETTO:-0500
TZNAME:EST
DTSTART:20261101T060000
END:STANDARD
BEGIN:DAYLIGHT
TZOFFSETFROM:-0500
TZOFFSETTO:-0400
TZNAME:EDT
DTSTART:20270314T070000
END:DAYLIGHT
BEGIN:STANDARD
TZOFFSETFROM:-0400
TZOFFSETTO:-0500
TZNAME:EST
DTSTART:20271107T060000
END:STANDARD
END:VTIMEZONE
BEGIN:VEVENT
DTSTART;VALUE=DATE:20261224
DTEND;VALUE=DATE:20261226
DTSTAMP:20260423T214840
CREATED:20251217T181231Z
LAST-MODIFIED:20251217T181236Z
UID:1324-1798070400-1798243199@millhallboroughpa.org
SUMMARY:Borough Office Closed
DESCRIPTION:The Mill Hall Borough Office is Closed Today for the Holiday.
URL:https://millhallboroughpa.org/event/borough-office-closed-10/
ATTACH;FMTTYPE=image/jpeg:https://millhallboroughpa.org/wp-content/uploads/2025/02/Mill-Hall-Borough-Pennsylvania-Logo.jpg
END:VEVENT
END:VCALENDAR