BEGIN:VCALENDAR
VERSION:2.0
PRODID:-//Mill Hall Borough - ECPv6.15.20//NONSGML v1.0//EN
CALSCALE:GREGORIAN
METHOD:PUBLISH
X-ORIGINAL-URL:https://millhallboroughpa.org
X-WR-CALDESC:Events for Mill Hall Borough
REFRESH-INTERVAL;VALUE=DURATION:PT1H
X-Robots-Tag:noindex
X-PUBLISHED-TTL:PT1H
BEGIN:VTIMEZONE
TZID:America/New_York
BEGIN:DAYLIGHT
TZOFFSETFROM:-0500
TZOFFSETTO:-0400
TZNAME:EDT
DTSTART:20240310T070000
END:DAYLIGHT
BEGIN:STANDARD
TZOFFSETFROM:-0400
TZOFFSETTO:-0500
TZNAME:EST
DTSTART:20241103T060000
END:STANDARD
BEGIN:DAYLIGHT
TZOFFSETFROM:-0500
TZOFFSETTO:-0400
TZNAME:EDT
DTSTART:20250309T070000
END:DAYLIGHT
BEGIN:STANDARD
TZOFFSETFROM:-0400
TZOFFSETTO:-0500
TZNAME:EST
DTSTART:20251102T060000
END:STANDARD
BEGIN:DAYLIGHT
TZOFFSETFROM:-0500
TZOFFSETTO:-0400
TZNAME:EDT
DTSTART:20260308T070000
END:DAYLIGHT
BEGIN:STANDARD
TZOFFSETFROM:-0400
TZOFFSETTO:-0500
TZNAME:EST
DTSTART:20261101T060000
END:STANDARD
END:VTIMEZONE
BEGIN:VEVENT
DTSTART;TZID=America/New_York:20251113T190000
DTEND;TZID=America/New_York:20251113T200000
DTSTAMP:20260423T193453
CREATED:20250423T193005Z
LAST-MODIFIED:20250423T193005Z
UID:698-1763060400-1763064000@millhallboroughpa.org
SUMMARY:Ordinance Committee-November 13\, 2025
DESCRIPTION:Ordinance Committee Meetings are held the 2nd Thursday of each month at 7:00 p.m. at Mill Hall borough building\, 215 Beech Creek Avenue\, Mill Hall\, PA 17751.
URL:https://millhallboroughpa.org/event/ordinance-committee-november-13-2025/
LOCATION:Mill Hall Borough Office\, 215 Beech Creek Avenue\, Mill Hall\, PA\, 17751
ATTACH;FMTTYPE=image/jpeg:https://millhallboroughpa.org/wp-content/uploads/2025/02/Mill-Hall-Borough-Pennsylvania-Logo.jpg
END:VEVENT
BEGIN:VEVENT
DTSTART;TZID=America/New_York:20251112T190000
DTEND;TZID=America/New_York:20251112T200000
DTSTAMP:20260423T193453
CREATED:20250423T194210Z
LAST-MODIFIED:20250423T194210Z
UID:722-1762974000-1762977600@millhallboroughpa.org
SUMMARY:Park & Recreation Committee-November 12\, 2025
DESCRIPTION:Park & Recreation Committee Meetings are held the 2nd Wednesday of each month at 7:00 p.m. at Mill Hall borough building\, 215 Beech Creek Avenue\, Mill Hall\, PA 17751.
URL:https://millhallboroughpa.org/event/park-recreation-committee-november-12-2025/
LOCATION:Mill Hall Borough Office\, 215 Beech Creek Avenue\, Mill Hall\, PA\, 17751
ATTACH;FMTTYPE=image/jpeg:https://millhallboroughpa.org/wp-content/uploads/2025/02/Mill-Hall-Borough-Pennsylvania-Logo.jpg
END:VEVENT
BEGIN:VEVENT
DTSTART;TZID=America/New_York:20251110T190000
DTEND;TZID=America/New_York:20251110T200000
DTSTAMP:20260423T193453
CREATED:20250423T191906Z
LAST-MODIFIED:20250423T191906Z
UID:674-1762801200-1762804800@millhallboroughpa.org
SUMMARY:Sewer/Highway Committee-November 10\, 2025
DESCRIPTION:Sewer/Highway Meetings are held the 2nd Monday of each month at 7:00 p.m. at Mill Hall borough building\, 215 Beech Creek Avenue\, Mill Hall\, PA 17751.
URL:https://millhallboroughpa.org/event/sewer-highway-committee-november-10-2025/
LOCATION:Mill Hall Borough Office\, 215 Beech Creek Avenue\, Mill Hall\, PA\, 17751
ATTACH;FMTTYPE=image/jpeg:https://millhallboroughpa.org/wp-content/uploads/2025/02/Mill-Hall-Borough-Pennsylvania-Logo.jpg
END:VEVENT
BEGIN:VEVENT
DTSTART;TZID=America/New_York:20251104T063000
DTEND;TZID=America/New_York:20251104T143000
DTSTAMP:20260423T193453
CREATED:20250924T135727Z
LAST-MODIFIED:20250924T141335Z
UID:1062-1762237800-1762266600@millhallboroughpa.org
SUMMARY:Fall Leaf Pick-Up
DESCRIPTION:2025 Mill Hall Borough Fall Leaf Pick-Up \nNovember 4\, November 18\, November 25\, December 2 \nPlease Put Bagged Leaves at Curb Side. No Tree Branches\, Grass Clippings or Garbage Allowed.
URL:https://millhallboroughpa.org/event/fall-leaf-pick-up/
ATTACH;FMTTYPE=image/jpeg:https://millhallboroughpa.org/wp-content/uploads/2025/02/Mill-Hall-Borough-Pennsylvania-Logo.jpg
END:VEVENT
BEGIN:VEVENT
DTSTART;TZID=America/New_York:20251031T180000
DTEND;TZID=America/New_York:20251031T200000
DTSTAMP:20260423T193453
CREATED:20250924T135338Z
LAST-MODIFIED:20250924T135338Z
UID:1060-1761933600-1761940800@millhallboroughpa.org
SUMMARY:Truck-or-Treat
DESCRIPTION:Truck-or-Treat at Mill Hall Fire Company on October 31\, 2025 from 6-8pm. The fire trucks get pulled outside\, so stop by the fire station for some Halloween goodies. Everyone is welcome. Sponsored by the Fire Company.
URL:https://millhallboroughpa.org/event/truck-or-treat/
ATTACH;FMTTYPE=image/jpeg:https://millhallboroughpa.org/wp-content/uploads/2025/02/Mill-Hall-Borough-Pennsylvania-Logo.jpg
END:VEVENT
BEGIN:VEVENT
DTSTART;TZID=America/New_York:20251031T180000
DTEND;TZID=America/New_York:20251031T200000
DTSTAMP:20260423T193453
CREATED:20250924T135025Z
LAST-MODIFIED:20250924T135025Z
UID:1058-1761933600-1761940800@millhallboroughpa.org
SUMMARY:Halloween
DESCRIPTION:Celebrate Halloween on October 31\, 2025 from 6-8pm
URL:https://millhallboroughpa.org/event/halloween/
ATTACH;FMTTYPE=image/jpeg:https://millhallboroughpa.org/wp-content/uploads/2025/02/Mill-Hall-Borough-Pennsylvania-Logo.jpg
END:VEVENT
BEGIN:VEVENT
DTSTART;TZID=America/New_York:20251028T190000
DTEND;TZID=America/New_York:20251028T200000
DTSTAMP:20260423T193453
CREATED:20250312T223030Z
LAST-MODIFIED:20250423T175325Z
UID:438-1761678000-1761681600@millhallboroughpa.org
SUMMARY:Council Meeting - October 2025
DESCRIPTION:Come find out all that is happening in Mill Hall Borough! We love seeing our residents every fourth Tuesday of the month. Our next township meeting is Tuesday\, October 28\, 2025 at 7:00 p.m. at our borough building\, 215 Beech Creek Avenue\, Mill Hall\, PA 17751.
URL:https://millhallboroughpa.org/event/council-meeting-october-2025/
LOCATION:Mill Hall Borough Office\, 215 Beech Creek Avenue\, Mill Hall\, PA\, 17751
ATTACH;FMTTYPE=image/jpeg:https://millhallboroughpa.org/wp-content/uploads/2025/02/Mill-Hall-Borough-Pennsylvania-Logo.jpg
END:VEVENT
BEGIN:VEVENT
DTSTART;TZID=America/New_York:20251016T190000
DTEND;TZID=America/New_York:20251016T200000
DTSTAMP:20260423T193453
CREATED:20250423T195219Z
LAST-MODIFIED:20250423T195219Z
UID:744-1760641200-1760644800@millhallboroughpa.org
SUMMARY:Personnel Committee-October 16\, 2025
DESCRIPTION:Personnel Committee Meetings are held the 3rd Thursday of each month at 7:00 p.m. at Mill Hall borough building\, 215 Beech Creek Avenue\, Mill Hall\, PA 17751.
URL:https://millhallboroughpa.org/event/personnel-committee-october-16-2025/
LOCATION:Mill Hall Borough Office\, 215 Beech Creek Avenue\, Mill Hall\, PA\, 17751
ATTACH;FMTTYPE=image/jpeg:https://millhallboroughpa.org/wp-content/uploads/2025/02/Mill-Hall-Borough-Pennsylvania-Logo.jpg
END:VEVENT
BEGIN:VEVENT
DTSTART;TZID=America/New_York:20251015T190000
DTEND;TZID=America/New_York:20251015T200000
DTSTAMP:20260423T193453
CREATED:20250423T200408Z
LAST-MODIFIED:20250423T200408Z
UID:768-1760554800-1760558400@millhallboroughpa.org
SUMMARY:Safety Committee-October 15\, 2025
DESCRIPTION:Safety Committee Meetings are held the 3rd Wednesday of each month at 7:00 p.m. at Mill Hall borough building\, 215 Beech Creek Avenue\, Mill Hall\, PA 17751.
URL:https://millhallboroughpa.org/event/safety-committee-october-15-2025/
LOCATION:Mill Hall Borough Office\, 215 Beech Creek Avenue\, Mill Hall\, PA\, 17751
ATTACH;FMTTYPE=image/jpeg:https://millhallboroughpa.org/wp-content/uploads/2025/02/Mill-Hall-Borough-Pennsylvania-Logo.jpg
END:VEVENT
BEGIN:VEVENT
DTSTART;TZID=America/New_York:20251013T190000
DTEND;TZID=America/New_York:20251013T200000
DTSTAMP:20260423T193453
CREATED:20250423T191811Z
LAST-MODIFIED:20250423T191811Z
UID:670-1760382000-1760385600@millhallboroughpa.org
SUMMARY:Sewer/Highway Committee-October 13\, 2025
DESCRIPTION:Sewer/Highway Meetings are held the 2nd Monday of each month at 7:00 p.m. at Mill Hall borough building\, 215 Beech Creek Avenue\, Mill Hall\, PA 17751.
URL:https://millhallboroughpa.org/event/sewer-highway-committee-october-13-2025/
LOCATION:Mill Hall Borough Office\, 215 Beech Creek Avenue\, Mill Hall\, PA\, 17751
ATTACH;FMTTYPE=image/jpeg:https://millhallboroughpa.org/wp-content/uploads/2025/02/Mill-Hall-Borough-Pennsylvania-Logo.jpg
END:VEVENT
BEGIN:VEVENT
DTSTART;TZID=America/New_York:20251009T190000
DTEND;TZID=America/New_York:20251009T200000
DTSTAMP:20260423T193453
CREATED:20250423T192922Z
LAST-MODIFIED:20250423T192922Z
UID:696-1760036400-1760040000@millhallboroughpa.org
SUMMARY:Ordinance Committee-October 9\, 2025
DESCRIPTION:Ordinance Committee Meetings are held the 2nd Thursday of each month at 7:00 p.m. at Mill Hall borough building\, 215 Beech Creek Avenue\, Mill Hall\, PA 17751.
URL:https://millhallboroughpa.org/event/ordinance-committee-october-9-2025/
LOCATION:Mill Hall Borough Office\, 215 Beech Creek Avenue\, Mill Hall\, PA\, 17751
ATTACH;FMTTYPE=image/jpeg:https://millhallboroughpa.org/wp-content/uploads/2025/02/Mill-Hall-Borough-Pennsylvania-Logo.jpg
END:VEVENT
BEGIN:VEVENT
DTSTART;TZID=America/New_York:20251008T190000
DTEND;TZID=America/New_York:20251008T200000
DTSTAMP:20260423T193453
CREATED:20250423T194033Z
LAST-MODIFIED:20250423T194033Z
UID:720-1759950000-1759953600@millhallboroughpa.org
SUMMARY:Park & Recreation Committee-October 8\, 2025
DESCRIPTION:Park & Recreation Committee Meetings are held the 2nd Wednesday of each month at 7:00 p.m. at Mill Hall borough building\, 215 Beech Creek Avenue\, Mill Hall\, PA 17751.
URL:https://millhallboroughpa.org/event/park-recreation-committee-october-8-2025/
LOCATION:Mill Hall Borough Office\, 215 Beech Creek Avenue\, Mill Hall\, PA\, 17751
ATTACH;FMTTYPE=image/jpeg:https://millhallboroughpa.org/wp-content/uploads/2025/02/Mill-Hall-Borough-Pennsylvania-Logo.jpg
END:VEVENT
BEGIN:VEVENT
DTSTART;TZID=America/New_York:20250930T190000
DTEND;TZID=America/New_York:20250930T200000
DTSTAMP:20260423T193453
CREATED:20250922T155420Z
LAST-MODIFIED:20250922T155420Z
UID:1046-1759258800-1759262400@millhallboroughpa.org
SUMMARY:Special Council Meeting - September 30\, 2025
DESCRIPTION:Special Council Meeting from 7-8pm\, 215 Beech Creek Avenue\, Mill Hall\, PA 17751.
URL:https://millhallboroughpa.org/event/special-council-meeting-september-30-2025/
ATTACH;FMTTYPE=image/jpeg:https://millhallboroughpa.org/wp-content/uploads/2025/02/Mill-Hall-Borough-Pennsylvania-Logo.jpg
END:VEVENT
BEGIN:VEVENT
DTSTART;TZID=America/New_York:20250923T190000
DTEND;TZID=America/New_York:20250923T200000
DTSTAMP:20260423T193453
CREATED:20250312T222909Z
LAST-MODIFIED:20250423T175321Z
UID:433-1758654000-1758657600@millhallboroughpa.org
SUMMARY:Council Meeting - September 2025
DESCRIPTION:Come find out all that is happening in Mill Hall Borough! We love seeing our residents every fourth Tuesday of the month. Our next township meeting is Tuesday\, September 23\, 2025 at 7:00 p.m. at our borough building\, 215 Beech Creek Avenue\, Mill Hall\, PA 17751.
URL:https://millhallboroughpa.org/event/council-meeting-september-2025/
LOCATION:Mill Hall Borough Office\, 215 Beech Creek Avenue\, Mill Hall\, PA\, 17751
ATTACH;FMTTYPE=image/jpeg:https://millhallboroughpa.org/wp-content/uploads/2025/02/Mill-Hall-Borough-Pennsylvania-Logo.jpg
END:VEVENT
BEGIN:VEVENT
DTSTART;TZID=America/New_York:20250918T190000
DTEND;TZID=America/New_York:20250918T200000
DTSTAMP:20260423T193453
CREATED:20250423T195140Z
LAST-MODIFIED:20250423T195140Z
UID:742-1758222000-1758225600@millhallboroughpa.org
SUMMARY:Personnel Committee-September 18\, 2025
DESCRIPTION:Personnel Committee Meetings are held the 3rd Thursday of each month at 7:00 p.m. at Mill Hall borough building\, 215 Beech Creek Avenue\, Mill Hall\, PA 17751.
URL:https://millhallboroughpa.org/event/personnel-committee-september-18-2025/
LOCATION:Mill Hall Borough Office\, 215 Beech Creek Avenue\, Mill Hall\, PA\, 17751
ATTACH;FMTTYPE=image/jpeg:https://millhallboroughpa.org/wp-content/uploads/2025/02/Mill-Hall-Borough-Pennsylvania-Logo.jpg
END:VEVENT
BEGIN:VEVENT
DTSTART;TZID=America/New_York:20250917T190000
DTEND;TZID=America/New_York:20250917T200000
DTSTAMP:20260423T193453
CREATED:20250423T200306Z
LAST-MODIFIED:20250423T200306Z
UID:766-1758135600-1758139200@millhallboroughpa.org
SUMMARY:Safety Committee-September 17\, 2025
DESCRIPTION:Safety Committee Meetings are held the 3rd Wednesday of each month at 7:00 p.m. at Mill Hall borough building\, 215 Beech Creek Avenue\, Mill Hall\, PA 17751.
URL:https://millhallboroughpa.org/event/safety-committee-september-17-2025/
LOCATION:Mill Hall Borough Office\, 215 Beech Creek Avenue\, Mill Hall\, PA\, 17751
ATTACH;FMTTYPE=image/jpeg:https://millhallboroughpa.org/wp-content/uploads/2025/02/Mill-Hall-Borough-Pennsylvania-Logo.jpg
END:VEVENT
BEGIN:VEVENT
DTSTART;TZID=America/New_York:20250911T190000
DTEND;TZID=America/New_York:20250911T200000
DTSTAMP:20260423T193453
CREATED:20250423T192834Z
LAST-MODIFIED:20250423T192834Z
UID:694-1757617200-1757620800@millhallboroughpa.org
SUMMARY:Ordinance Committee-September 11\, 2025
DESCRIPTION:Ordinance Committee Meetings are held the 2nd Thursday of each month at 7:00 p.m. at Mill Hall borough building\, 215 Beech Creek Avenue\, Mill Hall\, PA 17751.
URL:https://millhallboroughpa.org/event/ordinance-committee-september-11-2025/
LOCATION:Mill Hall Borough Office\, 215 Beech Creek Avenue\, Mill Hall\, PA\, 17751
ATTACH;FMTTYPE=image/jpeg:https://millhallboroughpa.org/wp-content/uploads/2025/02/Mill-Hall-Borough-Pennsylvania-Logo.jpg
END:VEVENT
BEGIN:VEVENT
DTSTART;TZID=America/New_York:20250910T190000
DTEND;TZID=America/New_York:20250910T200000
DTSTAMP:20260423T193453
CREATED:20250423T193948Z
LAST-MODIFIED:20250423T193948Z
UID:718-1757530800-1757534400@millhallboroughpa.org
SUMMARY:Park & Recreation Committee-September 10\, 2025
DESCRIPTION:Park & Recreation Committee Meetings are held the 2nd Wednesday of each month at 7:00 p.m. at Mill Hall borough building\, 215 Beech Creek Avenue\, Mill Hall\, PA 17751.
URL:https://millhallboroughpa.org/event/park-recreation-committee-september-10-2025/
LOCATION:Mill Hall Borough Office\, 215 Beech Creek Avenue\, Mill Hall\, PA\, 17751
ATTACH;FMTTYPE=image/jpeg:https://millhallboroughpa.org/wp-content/uploads/2025/02/Mill-Hall-Borough-Pennsylvania-Logo.jpg
END:VEVENT
BEGIN:VEVENT
DTSTART;TZID=America/New_York:20250908T190000
DTEND;TZID=America/New_York:20250908T200000
DTSTAMP:20260423T193453
CREATED:20250423T191609Z
LAST-MODIFIED:20250423T191609Z
UID:668-1757358000-1757361600@millhallboroughpa.org
SUMMARY:Sewer/Highway Committee-September 8\, 2025
DESCRIPTION:Sewer/Highway Meetings are held the 2nd Monday of each month at 7:00 p.m. at Mill Hall borough building\, 215 Beech Creek Avenue\, Mill Hall\, PA 17751.
URL:https://millhallboroughpa.org/event/sewer-highway-committee-september-8-2025/
LOCATION:Mill Hall Borough Office\, 215 Beech Creek Avenue\, Mill Hall\, PA\, 17751
ATTACH;FMTTYPE=image/jpeg:https://millhallboroughpa.org/wp-content/uploads/2025/02/Mill-Hall-Borough-Pennsylvania-Logo.jpg
END:VEVENT
BEGIN:VEVENT
DTSTART;VALUE=DATE:20250901
DTEND;VALUE=DATE:20250902
DTSTAMP:20260423T193453
CREATED:20250423T193247Z
LAST-MODIFIED:20250812T181859Z
UID:702-1756684800-1756771199@millhallboroughpa.org
SUMMARY:Borough Office Closed
DESCRIPTION:The Mill Hall Borough Office is Closed Today in observance of Labor Day
URL:https://millhallboroughpa.org/event/park-recreation-committee-january-8-2025/
LOCATION:Mill Hall Borough Office\, 215 Beech Creek Avenue\, Mill Hall\, PA\, 17751
ATTACH;FMTTYPE=image/jpeg:https://millhallboroughpa.org/wp-content/uploads/2025/02/Mill-Hall-Borough-Pennsylvania-Logo.jpg
END:VEVENT
BEGIN:VEVENT
DTSTART;TZID=America/New_York:20250826T190000
DTEND;TZID=America/New_York:20250826T200000
DTSTAMP:20260423T193453
CREATED:20250312T222642Z
LAST-MODIFIED:20250423T175316Z
UID:430-1756234800-1756238400@millhallboroughpa.org
SUMMARY:Council Meeting - August 2025
DESCRIPTION:Come find out all that is happening in Mill Hall Borough! We love seeing our residents every fourth Tuesday of the month. Our next township meeting is Tuesday\, August 26\, 2025 at 7:00 p.m. at our borough building\, 215 Beech Creek Avenue\, Mill Hall\, PA 17751.
URL:https://millhallboroughpa.org/event/council-meeting-august-2025/
LOCATION:Mill Hall Borough Office\, 215 Beech Creek Avenue\, Mill Hall\, PA\, 17751
ATTACH;FMTTYPE=image/jpeg:https://millhallboroughpa.org/wp-content/uploads/2025/02/Mill-Hall-Borough-Pennsylvania-Logo.jpg
END:VEVENT
BEGIN:VEVENT
DTSTART;TZID=America/New_York:20250821T190000
DTEND;TZID=America/New_York:20250821T200000
DTSTAMP:20260423T193453
CREATED:20250423T195033Z
LAST-MODIFIED:20250423T195033Z
UID:740-1755802800-1755806400@millhallboroughpa.org
SUMMARY:Personnel Committee-August 21\, 2025
DESCRIPTION:Personnel Committee Meetings are held the 3rd Thursday of each month at 7:00 p.m. at Mill Hall borough building\, 215 Beech Creek Avenue\, Mill Hall\, PA 17751.
URL:https://millhallboroughpa.org/event/personnel-committee-august-21-2025/
LOCATION:Mill Hall Borough Office\, 215 Beech Creek Avenue\, Mill Hall\, PA\, 17751
ATTACH;FMTTYPE=image/jpeg:https://millhallboroughpa.org/wp-content/uploads/2025/02/Mill-Hall-Borough-Pennsylvania-Logo.jpg
END:VEVENT
BEGIN:VEVENT
DTSTART;TZID=America/New_York:20250821T143000
DTEND;TZID=America/New_York:20250821T143000
DTSTAMP:20260423T193453
CREATED:20250812T181637Z
LAST-MODIFIED:20250821T124607Z
UID:983-1755786600-1755786600@millhallboroughpa.org
SUMMARY:Pool & Bathhouse Bid Opening
DESCRIPTION:Pool and Bathhouse Bid Opening at 2:30 p.m. at Mill Hall borough building\, 215 Beech Creek Avenue\, Mill Hall\, PA 17751.
URL:https://millhallboroughpa.org/event/pool-bathhouse-bid-opening/
ATTACH;FMTTYPE=image/jpeg:https://millhallboroughpa.org/wp-content/uploads/2025/02/Mill-Hall-Borough-Pennsylvania-Logo.jpg
END:VEVENT
BEGIN:VEVENT
DTSTART;TZID=America/New_York:20250820T190000
DTEND;TZID=America/New_York:20250820T200000
DTSTAMP:20260423T193453
CREATED:20250423T200154Z
LAST-MODIFIED:20250812T180648Z
UID:764-1755716400-1755720000@millhallboroughpa.org
SUMMARY:Safety Committee-August 20\, 2025
DESCRIPTION:Safety Committee Meetings are held the 3rd Wednesday of each month at 7:00 p.m. at Mill Hall borough building\, 215 Beech Creek Avenue\, Mill Hall\, PA 17751.
URL:https://millhallboroughpa.org/event/safety-committee-august-20-2025/
LOCATION:Mill Hall Borough Office\, 215 Beech Creek Avenue\, Mill Hall\, PA\, 17751
ATTACH;FMTTYPE=image/jpeg:https://millhallboroughpa.org/wp-content/uploads/2025/02/Mill-Hall-Borough-Pennsylvania-Logo.jpg
END:VEVENT
BEGIN:VEVENT
DTSTART;TZID=America/New_York:20250814T000000
DTEND;TZID=America/New_York:20250814T000000
DTSTAMP:20260423T193453
CREATED:20250423T192744Z
LAST-MODIFIED:20250423T192744Z
UID:692-1755129600-1755129600@millhallboroughpa.org
SUMMARY:Ordinance Committee-August 14\, 2025
DESCRIPTION:Ordinance Committee Meetings are held the 2nd Thursday of each month at 7:00 p.m. at Mill Hall borough building\, 215 Beech Creek Avenue\, Mill Hall\, PA 17751.
URL:https://millhallboroughpa.org/event/ordinance-committee-august-14-2025/
LOCATION:Mill Hall Borough Office\, 215 Beech Creek Avenue\, Mill Hall\, PA\, 17751
ATTACH;FMTTYPE=image/jpeg:https://millhallboroughpa.org/wp-content/uploads/2025/02/Mill-Hall-Borough-Pennsylvania-Logo.jpg
END:VEVENT
BEGIN:VEVENT
DTSTART;TZID=America/New_York:20250813T190000
DTEND;TZID=America/New_York:20250813T200000
DTSTAMP:20260423T193453
CREATED:20250423T193855Z
LAST-MODIFIED:20250423T193855Z
UID:716-1755111600-1755115200@millhallboroughpa.org
SUMMARY:Park & Recreation Committee-August 13\, 2025
DESCRIPTION:Park & Recreation Committee Meetings are held the 2nd Wednesday of each month at 7:00 p.m. at Mill Hall borough building\, 215 Beech Creek Avenue\, Mill Hall\, PA 17751.
URL:https://millhallboroughpa.org/event/park-recreation-committee-august-13-2025/
LOCATION:Mill Hall Borough Office\, 215 Beech Creek Avenue\, Mill Hall\, PA\, 17751
ATTACH;FMTTYPE=image/jpeg:https://millhallboroughpa.org/wp-content/uploads/2025/02/Mill-Hall-Borough-Pennsylvania-Logo.jpg
END:VEVENT
BEGIN:VEVENT
DTSTART;TZID=America/New_York:20250811T190000
DTEND;TZID=America/New_York:20250811T200000
DTSTAMP:20260423T193453
CREATED:20250423T191518Z
LAST-MODIFIED:20250423T191518Z
UID:666-1754938800-1754942400@millhallboroughpa.org
SUMMARY:Sewer/Highway Committee-August 11\, 2025
DESCRIPTION:Sewer/Highway Meetings are held the 2nd Monday of each month at 7:00 p.m. at Mill Hall borough building\, 215 Beech Creek Avenue\, Mill Hall\, PA 17751.
URL:https://millhallboroughpa.org/event/sewer-highway-committee-august-11-2025/
LOCATION:Mill Hall Borough Office\, 215 Beech Creek Avenue\, Mill Hall\, PA\, 17751
ATTACH;FMTTYPE=image/jpeg:https://millhallboroughpa.org/wp-content/uploads/2025/02/Mill-Hall-Borough-Pennsylvania-Logo.jpg
END:VEVENT
BEGIN:VEVENT
DTSTART;TZID=America/New_York:20250806T000000
DTEND;TZID=America/New_York:20250806T000000
DTSTAMP:20260423T193453
CREATED:20250806T120056Z
LAST-MODIFIED:20250812T181436Z
UID:980-1754438400-1754438400@millhallboroughpa.org
SUMMARY:Mill Hall Borough Special Meeting
DESCRIPTION:Mill Hall Borough Special Meeting at 6:00 p.m. at Mill Hall borough building\, 215 Beech Creek Avenue\, Mill Hall\, PA 17751.
URL:https://millhallboroughpa.org/event/special-meeting-august-6-2025-12/
ATTACH;FMTTYPE=image/jpeg:https://millhallboroughpa.org/wp-content/uploads/2025/02/Mill-Hall-Borough-Pennsylvania-Logo.jpg
END:VEVENT
BEGIN:VEVENT
DTSTART;TZID=America/New_York:20250722T190000
DTEND;TZID=America/New_York:20250722T200000
DTSTAMP:20260423T193453
CREATED:20250312T222337Z
LAST-MODIFIED:20250423T175310Z
UID:429-1753210800-1753214400@millhallboroughpa.org
SUMMARY:Council Meeting - July 2025
DESCRIPTION:Come find out all that is happening in Mill Hall Borough! We love seeing our residents every fourth Tuesday of the month. Our next township meeting is Tuesday\, July 22\, 2025 at 7:00 p.m. at our borough building\, 215 Beech Creek Avenue\, Mill Hall\, PA 17751.
URL:https://millhallboroughpa.org/event/council-meeting-july-2025/
LOCATION:Mill Hall Borough Office\, 215 Beech Creek Avenue\, Mill Hall\, PA\, 17751
ATTACH;FMTTYPE=image/jpeg:https://millhallboroughpa.org/wp-content/uploads/2025/02/Mill-Hall-Borough-Pennsylvania-Logo.jpg
END:VEVENT
BEGIN:VEVENT
DTSTART;TZID=America/New_York:20250717T190000
DTEND;TZID=America/New_York:20250717T200000
DTSTAMP:20260423T193453
CREATED:20250423T194948Z
LAST-MODIFIED:20250423T194948Z
UID:738-1752778800-1752782400@millhallboroughpa.org
SUMMARY:Personnel Committee-July 17\, 2025
DESCRIPTION:Personnel Committee Meetings are held the 3rd Thursday of each month at 7:00 p.m. at Mill Hall borough building\, 215 Beech Creek Avenue\, Mill Hall\, PA 17751.
URL:https://millhallboroughpa.org/event/personnel-committee-july-17-2025/
LOCATION:Mill Hall Borough Office\, 215 Beech Creek Avenue\, Mill Hall\, PA\, 17751
ATTACH;FMTTYPE=image/jpeg:https://millhallboroughpa.org/wp-content/uploads/2025/02/Mill-Hall-Borough-Pennsylvania-Logo.jpg
END:VEVENT
END:VCALENDAR