BEGIN:VCALENDAR
VERSION:2.0
PRODID:-//Mill Hall Borough - ECPv6.15.20//NONSGML v1.0//EN
CALSCALE:GREGORIAN
METHOD:PUBLISH
X-WR-CALNAME:Mill Hall Borough
X-ORIGINAL-URL:https://millhallboroughpa.org
X-WR-CALDESC:Events for Mill Hall Borough
REFRESH-INTERVAL;VALUE=DURATION:PT1H
X-Robots-Tag:noindex
X-PUBLISHED-TTL:PT1H
BEGIN:VTIMEZONE
TZID:America/New_York
BEGIN:DAYLIGHT
TZOFFSETFROM:-0500
TZOFFSETTO:-0400
TZNAME:EDT
DTSTART:20250309T070000
END:DAYLIGHT
BEGIN:STANDARD
TZOFFSETFROM:-0400
TZOFFSETTO:-0500
TZNAME:EST
DTSTART:20251102T060000
END:STANDARD
BEGIN:DAYLIGHT
TZOFFSETFROM:-0500
TZOFFSETTO:-0400
TZNAME:EDT
DTSTART:20260308T070000
END:DAYLIGHT
BEGIN:STANDARD
TZOFFSETFROM:-0400
TZOFFSETTO:-0500
TZNAME:EST
DTSTART:20261101T060000
END:STANDARD
BEGIN:DAYLIGHT
TZOFFSETFROM:-0500
TZOFFSETTO:-0400
TZNAME:EDT
DTSTART:20270314T070000
END:DAYLIGHT
BEGIN:STANDARD
TZOFFSETFROM:-0400
TZOFFSETTO:-0500
TZNAME:EST
DTSTART:20271107T060000
END:STANDARD
END:VTIMEZONE
BEGIN:VEVENT
DTSTART;TZID=America/New_York:20261118T190000
DTEND;TZID=America/New_York:20261118T190000
DTSTAMP:20260423T195234
CREATED:20251217T180139Z
LAST-MODIFIED:20251217T180143Z
UID:1313-1795028400-1795028400@millhallboroughpa.org
SUMMARY:Safety and Personnel Committees-Nov 18\, 2026
DESCRIPTION:Safety and Personnel Committees are held the 3rd Wednesday of each month at 7:00 p.m. at Mill Hall borough building\, 215 Beech Creek Avenue\, Mill Hall\, PA 17751.
URL:https://millhallboroughpa.org/event/safety-and-personnel-committees-nov-18-2026/
ATTACH;FMTTYPE=image/jpeg:https://millhallboroughpa.org/wp-content/uploads/2025/02/Mill-Hall-Borough-Pennsylvania-Logo.jpg
END:VEVENT
BEGIN:VEVENT
DTSTART;TZID=America/New_York:20261124T190000
DTEND;TZID=America/New_York:20261124T190000
DTSTAMP:20260423T195234
CREATED:20251217T162826Z
LAST-MODIFIED:20251217T162829Z
UID:1239-1795546800-1795546800@millhallboroughpa.org
SUMMARY:Council Meeting - November 24
DESCRIPTION:Come find out all that is happening in Mill Hall Borough! We love seeing our residents every fourth Tuesday of the month. 215 Beech Creek Avenue\, Mill Hall\, PA 17751.
URL:https://millhallboroughpa.org/event/council-meeting-november-24/
ATTACH;FMTTYPE=image/jpeg:https://millhallboroughpa.org/wp-content/uploads/2025/02/Mill-Hall-Borough-Pennsylvania-Logo.jpg
END:VEVENT
BEGIN:VEVENT
DTSTART;VALUE=DATE:20261126
DTEND;VALUE=DATE:20261128
DTSTAMP:20260423T195234
CREATED:20251217T181108Z
LAST-MODIFIED:20251217T181113Z
UID:1322-1795651200-1795823999@millhallboroughpa.org
SUMMARY:Borough Office Closed
DESCRIPTION:The Mill Hall Borough Office is Closed Today for the Holiday.
URL:https://millhallboroughpa.org/event/borough-office-closed-9/
ATTACH;FMTTYPE=image/jpeg:https://millhallboroughpa.org/wp-content/uploads/2025/02/Mill-Hall-Borough-Pennsylvania-Logo.jpg
END:VEVENT
BEGIN:VEVENT
DTSTART;TZID=America/New_York:20261207T190000
DTEND;TZID=America/New_York:20261207T190000
DTSTAMP:20260423T195234
CREATED:20251217T171742Z
LAST-MODIFIED:20251217T171747Z
UID:1266-1796670000-1796670000@millhallboroughpa.org
SUMMARY:Sewer/Highway Committee-Dec 7\, 2025
DESCRIPTION:Sewer/Highway Meetings are held the 2nd Monday of each month at 7:00 p.m. at Mill Hall borough building\, 215 Beech Creek Avenue\, Mill Hall\, PA 17751. \nSPECIAL DATE FOR THE HOLIDAY
URL:https://millhallboroughpa.org/event/sewer-highway-committee-dec-7-2025/
ATTACH;FMTTYPE=image/jpeg:https://millhallboroughpa.org/wp-content/uploads/2025/02/Mill-Hall-Borough-Pennsylvania-Logo.jpg
END:VEVENT
BEGIN:VEVENT
DTSTART;TZID=America/New_York:20261209T190000
DTEND;TZID=America/New_York:20261209T190000
DTSTAMP:20260423T195234
CREATED:20251217T174520Z
LAST-MODIFIED:20251217T174528Z
UID:1275-1796842800-1796842800@millhallboroughpa.org
SUMMARY:Park & Recreation and Ordinance Committees-Dec 9\, 2026
DESCRIPTION:Park & Recreation and Ordinance Committees are held the 2nd Wednesday of each month at 7:00 p.m. at Mill Hall borough building\, 215 Beech Creek Avenue\, Mill Hall\, PA 17751.
URL:https://millhallboroughpa.org/event/park-recreation-and-ordinance-committees-dec-9-2026/
ATTACH;FMTTYPE=image/jpeg:https://millhallboroughpa.org/wp-content/uploads/2025/02/Mill-Hall-Borough-Pennsylvania-Logo.jpg
END:VEVENT
BEGIN:VEVENT
DTSTART;TZID=America/New_York:20261210T190000
DTEND;TZID=America/New_York:20261210T190000
DTSTAMP:20260423T195234
CREATED:20251217T180244Z
LAST-MODIFIED:20251217T180248Z
UID:1294-1796929200-1796929200@millhallboroughpa.org
SUMMARY:Safety and Personnel Committees-Dec 10\, 2026
DESCRIPTION:Safety and Personnel Committees are held the 3rd Wednesday of each month at 7:00 p.m. at Mill Hall borough building\, 215 Beech Creek Avenue\, Mill Hall\, PA 17751. \nSPECIAL DATE DUE TO HOLIDAY
URL:https://millhallboroughpa.org/event/safety-and-personnel-committees-dec-10-2026/
ATTACH;FMTTYPE=image/jpeg:https://millhallboroughpa.org/wp-content/uploads/2025/02/Mill-Hall-Borough-Pennsylvania-Logo.jpg
END:VEVENT
BEGIN:VEVENT
DTSTART;TZID=America/New_York:20261215T190000
DTEND;TZID=America/New_York:20261215T190000
DTSTAMP:20260423T195234
CREATED:20251217T162930Z
LAST-MODIFIED:20251217T162934Z
UID:1241-1797361200-1797361200@millhallboroughpa.org
SUMMARY:Council Meeting - December 15
DESCRIPTION:Come find out all that is happening in Mill Hall Borough! We love seeing our residents every fourth Tuesday of the month. 215 Beech Creek Avenue\, Mill Hall\, PA 17751. \nSPECIAL DATE DUE TO HOLIDAY
URL:https://millhallboroughpa.org/event/council-meeting-december-15/
ATTACH;FMTTYPE=image/jpeg:https://millhallboroughpa.org/wp-content/uploads/2025/02/Mill-Hall-Borough-Pennsylvania-Logo.jpg
END:VEVENT
BEGIN:VEVENT
DTSTART;VALUE=DATE:20261224
DTEND;VALUE=DATE:20261226
DTSTAMP:20260423T195234
CREATED:20251217T181231Z
LAST-MODIFIED:20251217T181236Z
UID:1324-1798070400-1798243199@millhallboroughpa.org
SUMMARY:Borough Office Closed
DESCRIPTION:The Mill Hall Borough Office is Closed Today for the Holiday.
URL:https://millhallboroughpa.org/event/borough-office-closed-10/
ATTACH;FMTTYPE=image/jpeg:https://millhallboroughpa.org/wp-content/uploads/2025/02/Mill-Hall-Borough-Pennsylvania-Logo.jpg
END:VEVENT
END:VCALENDAR