BEGIN:VCALENDAR
VERSION:2.0
PRODID:-//Mill Hall Borough - ECPv6.15.20//NONSGML v1.0//EN
CALSCALE:GREGORIAN
METHOD:PUBLISH
X-WR-CALNAME:Mill Hall Borough
X-ORIGINAL-URL:https://millhallboroughpa.org
X-WR-CALDESC:Events for Mill Hall Borough
REFRESH-INTERVAL;VALUE=DURATION:PT1H
X-Robots-Tag:noindex
X-PUBLISHED-TTL:PT1H
BEGIN:VTIMEZONE
TZID:America/New_York
BEGIN:DAYLIGHT
TZOFFSETFROM:-0500
TZOFFSETTO:-0400
TZNAME:EDT
DTSTART:20250309T070000
END:DAYLIGHT
BEGIN:STANDARD
TZOFFSETFROM:-0400
TZOFFSETTO:-0500
TZNAME:EST
DTSTART:20251102T060000
END:STANDARD
BEGIN:DAYLIGHT
TZOFFSETFROM:-0500
TZOFFSETTO:-0400
TZNAME:EDT
DTSTART:20260308T070000
END:DAYLIGHT
BEGIN:STANDARD
TZOFFSETFROM:-0400
TZOFFSETTO:-0500
TZNAME:EST
DTSTART:20261101T060000
END:STANDARD
BEGIN:DAYLIGHT
TZOFFSETFROM:-0500
TZOFFSETTO:-0400
TZNAME:EDT
DTSTART:20270314T070000
END:DAYLIGHT
BEGIN:STANDARD
TZOFFSETFROM:-0400
TZOFFSETTO:-0500
TZNAME:EST
DTSTART:20271107T060000
END:STANDARD
END:VTIMEZONE
BEGIN:VEVENT
DTSTART;VALUE=DATE:20260101
DTEND;VALUE=DATE:20260102
DTSTAMP:20260423T180008
CREATED:20251217T160848Z
LAST-MODIFIED:20251217T160929Z
UID:1213-1767225600-1767311999@millhallboroughpa.org
SUMMARY:Borough Office Closed
DESCRIPTION:The Mill Hall Borough Office is Closed Today for the Holiday.
URL:https://millhallboroughpa.org/event/borough-office-closed-3/
ATTACH;FMTTYPE=image/jpeg:https://millhallboroughpa.org/wp-content/uploads/2025/02/Mill-Hall-Borough-Pennsylvania-Logo.jpg
END:VEVENT
BEGIN:VEVENT
DTSTART;TZID=America/New_York:20260105T190000
DTEND;TZID=America/New_York:20260105T200000
DTSTAMP:20260423T180008
CREATED:20251204T171714Z
LAST-MODIFIED:20251211T011401Z
UID:1191-1767639600-1767643200@millhallboroughpa.org
SUMMARY:Biannual Organization Meeting
DESCRIPTION:Mill Hall Borough Council will hold their Biannual Reorganization Meeting on Monday\, January 5\, 2026 at 7:00 p.m. at the Borough Building\, 215 Beech Creek\, Avenue\, Mill Hall\, Pa.  17751.
URL:https://millhallboroughpa.org/event/biannual-organization-meeting/
ATTACH;FMTTYPE=image/jpeg:https://millhallboroughpa.org/wp-content/uploads/2025/02/Mill-Hall-Borough-Pennsylvania-Logo.jpg
END:VEVENT
BEGIN:VEVENT
DTSTART;TZID=America/New_York:20260112T190000
DTEND;TZID=America/New_York:20260112T190000
DTSTAMP:20260423T180008
CREATED:20251217T163233Z
LAST-MODIFIED:20251217T163940Z
UID:1243-1768244400-1768244400@millhallboroughpa.org
SUMMARY:Sewer/Highway Committee-Jan 12\, 2026
DESCRIPTION:Sewer/Highway Meetings are held the 2nd Monday of each month at 7:00 p.m. at Mill Hall borough building\, 215 Beech Creek Avenue\, Mill Hall\, PA 17751.
URL:https://millhallboroughpa.org/event/sewer-highway-committee-jan-12-2026/
ATTACH;FMTTYPE=image/jpeg:https://millhallboroughpa.org/wp-content/uploads/2025/02/Mill-Hall-Borough-Pennsylvania-Logo.jpg
END:VEVENT
BEGIN:VEVENT
DTSTART;TZID=America/New_York:20260114T190000
DTEND;TZID=America/New_York:20260114T190000
DTSTAMP:20260423T180008
CREATED:20251217T173047Z
LAST-MODIFIED:20251217T173054Z
UID:1268-1768417200-1768417200@millhallboroughpa.org
SUMMARY:Park & Recreation and Ordinance Committees-Jan14\, 2026
DESCRIPTION:Park & Recreation and Ordinance Committees are held the 2nd Wednesday of each month at 7:00 p.m. at Mill Hall borough building\, 215 Beech Creek Avenue\, Mill Hall\, PA 17751.
URL:https://millhallboroughpa.org/event/park-recreation-and-ordinance-committees-jan14-2026/
ATTACH;FMTTYPE=image/jpeg:https://millhallboroughpa.org/wp-content/uploads/2025/02/Mill-Hall-Borough-Pennsylvania-Logo.jpg
END:VEVENT
BEGIN:VEVENT
DTSTART;TZID=America/New_York:20260121T190000
DTEND;TZID=America/New_York:20260121T190000
DTSTAMP:20260423T180008
CREATED:20251217T174731Z
LAST-MODIFIED:20251217T174735Z
UID:1292-1769022000-1769022000@millhallboroughpa.org
SUMMARY:Safety and Personnel Committees-Jan 21\, 2026
DESCRIPTION:Safety and Personnel Committees are held the 3rd Wednesday of each month at 7:00 p.m. at Mill Hall borough building\, 215 Beech Creek Avenue\, Mill Hall\, PA 17751.
URL:https://millhallboroughpa.org/event/safety-and-personnel-committees-jan-21-2026/
ATTACH;FMTTYPE=image/jpeg:https://millhallboroughpa.org/wp-content/uploads/2025/02/Mill-Hall-Borough-Pennsylvania-Logo.jpg
END:VEVENT
BEGIN:VEVENT
DTSTART;TZID=America/New_York:20260127T190000
DTEND;TZID=America/New_York:20260127T190000
DTSTAMP:20260423T180008
CREATED:20251217T161513Z
LAST-MODIFIED:20251217T161614Z
UID:1220-1769540400-1769540400@millhallboroughpa.org
SUMMARY:Council Meeting - January 27
DESCRIPTION:Come find out all that is happening in Mill Hall Borough! We love seeing our residents every fourth Tuesday of the month. 215 Beech Creek Avenue\, Mill Hall\, PA 17751.
URL:https://millhallboroughpa.org/event/council-meeting-january-27/
ATTACH;FMTTYPE=image/jpeg:https://millhallboroughpa.org/wp-content/uploads/2025/02/Mill-Hall-Borough-Pennsylvania-Logo.jpg
END:VEVENT
BEGIN:VEVENT
DTSTART;TZID=America/New_York:20260209T190000
DTEND;TZID=America/New_York:20260209T190000
DTSTAMP:20260423T180008
CREATED:20251217T170500Z
LAST-MODIFIED:20251217T170504Z
UID:1245-1770663600-1770663600@millhallboroughpa.org
SUMMARY:Sewer/Highway Committee-Feb 9\, 2026
DESCRIPTION:Sewer/Highway Meetings are held the 2nd Monday of each month at 7:00 p.m. at Mill Hall borough building\, 215 Beech Creek Avenue\, Mill Hall\, PA 17751.
URL:https://millhallboroughpa.org/event/sewer-highway-committee-feb-9-2026/
ATTACH;FMTTYPE=image/jpeg:https://millhallboroughpa.org/wp-content/uploads/2025/02/Mill-Hall-Borough-Pennsylvania-Logo.jpg
END:VEVENT
BEGIN:VEVENT
DTSTART;TZID=America/New_York:20260211T190000
DTEND;TZID=America/New_York:20260211T190000
DTSTAMP:20260423T180008
CREATED:20251217T173222Z
LAST-MODIFIED:20251217T173249Z
UID:1270-1770836400-1770836400@millhallboroughpa.org
SUMMARY:Park & Recreation and Ordinance Committees-Feb 11\, 2026
DESCRIPTION:Park & Recreation and Ordinance Committees are held the 2nd Wednesday of each month at 7:00 p.m. at Mill Hall borough building\, 215 Beech Creek Avenue\, Mill Hall\, PA 17751.
URL:https://millhallboroughpa.org/event/park-recreation-and-ordinance-committees-feb-11-2026/
ATTACH;FMTTYPE=image/jpeg:https://millhallboroughpa.org/wp-content/uploads/2025/02/Mill-Hall-Borough-Pennsylvania-Logo.jpg
END:VEVENT
BEGIN:VEVENT
DTSTART;TZID=America/New_York:20260218T190000
DTEND;TZID=America/New_York:20260218T190000
DTSTAMP:20260423T180008
CREATED:20251217T175002Z
LAST-MODIFIED:20251217T175006Z
UID:1295-1771441200-1771441200@millhallboroughpa.org
SUMMARY:Safety and Personnel Committees-Feb 18\, 2026
DESCRIPTION:Safety and Personnel Committees are held the 3rd Wednesday of each month at 7:00 p.m. at Mill Hall borough building\, 215 Beech Creek Avenue\, Mill Hall\, PA 17751.
URL:https://millhallboroughpa.org/event/safety-and-personnel-committees-feb-18-2026/
ATTACH;FMTTYPE=image/jpeg:https://millhallboroughpa.org/wp-content/uploads/2025/02/Mill-Hall-Borough-Pennsylvania-Logo.jpg
END:VEVENT
BEGIN:VEVENT
DTSTART;TZID=America/New_York:20260224T190000
DTEND;TZID=America/New_York:20260224T190000
DTSTAMP:20260423T180008
CREATED:20251217T161812Z
LAST-MODIFIED:20251217T162203Z
UID:1222-1771959600-1771959600@millhallboroughpa.org
SUMMARY:Council Meeting - February 24
DESCRIPTION:Come find out all that is happening in Mill Hall Borough! We love seeing our residents every fourth Tuesday of the month. 215 Beech Creek Avenue\, Mill Hall\, PA 17751.
URL:https://millhallboroughpa.org/event/council-meeting-february-24/
ATTACH;FMTTYPE=image/jpeg:https://millhallboroughpa.org/wp-content/uploads/2025/02/Mill-Hall-Borough-Pennsylvania-Logo.jpg
END:VEVENT
BEGIN:VEVENT
DTSTART;TZID=America/New_York:20260309T190000
DTEND;TZID=America/New_York:20260309T190000
DTSTAMP:20260423T180008
CREATED:20251217T170610Z
LAST-MODIFIED:20251217T170614Z
UID:1247-1773082800-1773082800@millhallboroughpa.org
SUMMARY:Sewer/Highway Committee-Mar 9\, 2026
DESCRIPTION:Sewer/Highway Meetings are held the 2nd Monday of each month at 7:00 p.m. at Mill Hall borough building\, 215 Beech Creek Avenue\, Mill Hall\, PA 17751.
URL:https://millhallboroughpa.org/event/sewer-highway-committee-mar-9-2026/
ATTACH;FMTTYPE=image/jpeg:https://millhallboroughpa.org/wp-content/uploads/2025/02/Mill-Hall-Borough-Pennsylvania-Logo.jpg
END:VEVENT
BEGIN:VEVENT
DTSTART;TZID=America/New_York:20260311T190000
DTEND;TZID=America/New_York:20260311T190000
DTSTAMP:20260423T180008
CREATED:20251217T173348Z
LAST-MODIFIED:20251217T173354Z
UID:1271-1773255600-1773255600@millhallboroughpa.org
SUMMARY:Park & Recreation and Ordinance Committees-Mar 11\, 2026
DESCRIPTION:Park & Recreation and Ordinance Committees are held the 2nd Wednesday of each month at 7:00 p.m. at Mill Hall borough building\, 215 Beech Creek Avenue\, Mill Hall\, PA 17751.
URL:https://millhallboroughpa.org/event/park-recreation-and-ordinance-committees-mar-11-2026/
ATTACH;FMTTYPE=image/jpeg:https://millhallboroughpa.org/wp-content/uploads/2025/02/Mill-Hall-Borough-Pennsylvania-Logo.jpg
END:VEVENT
BEGIN:VEVENT
DTSTART;TZID=America/New_York:20260318T190000
DTEND;TZID=America/New_York:20260318T190000
DTSTAMP:20260423T180008
CREATED:20251217T175124Z
LAST-MODIFIED:20251217T175129Z
UID:1298-1773860400-1773860400@millhallboroughpa.org
SUMMARY:Safety and Personnel Committees-Mar 18\, 2025
DESCRIPTION:Safety and Personnel Committees are held the 3rd Wednesday of each month at 7:00 p.m. at Mill Hall borough building\, 215 Beech Creek Avenue\, Mill Hall\, PA 17751.
URL:https://millhallboroughpa.org/event/safety-and-personnel-committees-mar-18-2025/
ATTACH;FMTTYPE=image/jpeg:https://millhallboroughpa.org/wp-content/uploads/2025/02/Mill-Hall-Borough-Pennsylvania-Logo.jpg
END:VEVENT
BEGIN:VEVENT
DTSTART;TZID=America/New_York:20260324T190000
DTEND;TZID=America/New_York:20260324T190000
DTSTAMP:20260423T180008
CREATED:20251217T162013Z
LAST-MODIFIED:20251217T162017Z
UID:1214-1774378800-1774378800@millhallboroughpa.org
SUMMARY:Council Meeting - March 24
DESCRIPTION:Come find out all that is happening in Mill Hall Borough! We love seeing our residents every fourth Tuesday of the month.  215 Beech Creek Avenue\, Mill Hall\, PA 17751.
URL:https://millhallboroughpa.org/event/council-meeting-march-24/
ATTACH;FMTTYPE=image/jpeg:https://millhallboroughpa.org/wp-content/uploads/2025/02/Mill-Hall-Borough-Pennsylvania-Logo.jpg
END:VEVENT
BEGIN:VEVENT
DTSTART;TZID=America/New_York:20260403T000000
DTEND;TZID=America/New_York:20260403T000000
DTSTAMP:20260423T180008
CREATED:20260402T201602Z
LAST-MODIFIED:20260402T201602Z
UID:1559-1775174400-1775174400@millhallboroughpa.org
SUMMARY:Borough Office Closed
DESCRIPTION:The Mill Hall Borough Office is Closed Today.
URL:https://millhallboroughpa.org/event/borough-office-closed-13/
ATTACH;FMTTYPE=image/jpeg:https://millhallboroughpa.org/wp-content/uploads/2025/02/Mill-Hall-Borough-Pennsylvania-Logo.jpg
END:VEVENT
BEGIN:VEVENT
DTSTART;VALUE=DATE:20260403
DTEND;VALUE=DATE:20260404
DTSTAMP:20260423T180008
CREATED:20260325T140356Z
LAST-MODIFIED:20260325T140356Z
UID:1551-1775174400-1775260799@millhallboroughpa.org
SUMMARY:Borough Office Closed
DESCRIPTION:The Mill Hall Borough Office is Closed Today.
URL:https://millhallboroughpa.org/event/borough-office-closed-11/
ATTACH;FMTTYPE=image/jpeg:https://millhallboroughpa.org/wp-content/uploads/2025/02/Mill-Hall-Borough-Pennsylvania-Logo.jpg
END:VEVENT
BEGIN:VEVENT
DTSTART;TZID=America/New_York:20260408T190000
DTEND;TZID=America/New_York:20260408T190000
DTSTAMP:20260423T180008
CREATED:20251217T173502Z
LAST-MODIFIED:20251217T173508Z
UID:1273-1775674800-1775674800@millhallboroughpa.org
SUMMARY:Park & Recreation and Ordinance Committees-Apr 8\, 2026
DESCRIPTION:Park & Recreation and Ordinance Committees are held the 2nd Wednesday of each month at 7:00 p.m. at Mill Hall borough building\, 215 Beech Creek Avenue\, Mill Hall\, PA 17751.
URL:https://millhallboroughpa.org/event/park-recreation-and-ordinance-committees-apr-8-2026/
ATTACH;FMTTYPE=image/jpeg:https://millhallboroughpa.org/wp-content/uploads/2025/02/Mill-Hall-Borough-Pennsylvania-Logo.jpg
END:VEVENT
BEGIN:VEVENT
DTSTART;TZID=America/New_York:20260415T190000
DTEND;TZID=America/New_York:20260415T190000
DTSTAMP:20260423T180008
CREATED:20251217T175208Z
LAST-MODIFIED:20251217T175212Z
UID:1297-1776279600-1776279600@millhallboroughpa.org
SUMMARY:Safety and Personnel Committees-Apr 15\, 2026
DESCRIPTION:Safety and Personnel Committees are held the 3rd Wednesday of each month at 7:00 p.m. at Mill Hall borough building\, 215 Beech Creek Avenue\, Mill Hall\, PA 17751.
URL:https://millhallboroughpa.org/event/safety-and-personnel-committees-apr-15-2026/
ATTACH;FMTTYPE=image/jpeg:https://millhallboroughpa.org/wp-content/uploads/2025/02/Mill-Hall-Borough-Pennsylvania-Logo.jpg
END:VEVENT
BEGIN:VEVENT
DTSTART;TZID=America/New_York:20260416T190000
DTEND;TZID=America/New_York:20260416T190000
DTSTAMP:20260423T180008
CREATED:20251217T170738Z
LAST-MODIFIED:20260401T193028Z
UID:1249-1776366000-1776366000@millhallboroughpa.org
SUMMARY:Sewer/Highway Committee-Apr 16\, 2026
DESCRIPTION:Sewer/Highway Meetings are held the 2nd Monday of each month at 7:00 p.m. at Mill Hall borough building\, 215 Beech Creek Avenue\, Mill Hall\, PA 17751.
URL:https://millhallboroughpa.org/event/sewer-highway-committee-apr-13-2026/
ATTACH;FMTTYPE=image/jpeg:https://millhallboroughpa.org/wp-content/uploads/2025/02/Mill-Hall-Borough-Pennsylvania-Logo.jpg
END:VEVENT
BEGIN:VEVENT
DTSTART;VALUE=DATE:20260421
DTEND;VALUE=DATE:20260422
DTSTAMP:20260423T180008
CREATED:20260325T140655Z
LAST-MODIFIED:20260325T140655Z
UID:1553-1776729600-1776815999@millhallboroughpa.org
SUMMARY:Borough Office Closed
DESCRIPTION:The Mill Hall Borough Office is Closed Today.
URL:https://millhallboroughpa.org/event/borough-office-closed-12/
ATTACH;FMTTYPE=image/jpeg:https://millhallboroughpa.org/wp-content/uploads/2025/02/Mill-Hall-Borough-Pennsylvania-Logo.jpg
END:VEVENT
BEGIN:VEVENT
DTSTART;TZID=America/New_York:20260428T190000
DTEND;TZID=America/New_York:20260428T190000
DTSTAMP:20260423T180008
CREATED:20251217T162112Z
LAST-MODIFIED:20251217T163011Z
UID:1224-1777402800-1777402800@millhallboroughpa.org
SUMMARY:Council Meeting - April 28
DESCRIPTION:Come find out all that is happening in Mill Hall Borough! We love seeing our residents every fourth Tuesday of the month. 215 Beech Creek Avenue\, Mill Hall\, PA 17751.
URL:https://millhallboroughpa.org/event/council-meeting-april-28/
ATTACH;FMTTYPE=image/jpeg:https://millhallboroughpa.org/wp-content/uploads/2025/02/Mill-Hall-Borough-Pennsylvania-Logo.jpg
END:VEVENT
BEGIN:VEVENT
DTSTART;VALUE=DATE:20260507
DTEND;VALUE=DATE:20260509
DTSTAMP:20260423T180008
CREATED:20260311T152741Z
LAST-MODIFIED:20260311T152921Z
UID:1525-1778112000-1778284799@millhallboroughpa.org
SUMMARY:Tire Collection - May 7-8\, 2026
DESCRIPTION:Mill Hall Borough residents\, it’s time to recycle your tires! Bring your tires to the Borough Building on May 7\, 2026 from 7:00 a.m. – 2:00 p.m. or May 8\, 2026 from 7:00 a.m. – 11:00 a.m. Limit is 12 tires per resident. Not open to tire dealers\, service station operators\, repair garages\, tire sales outlets\, or similar facilities. You must provide your name\, address\, and number of tires at drop off. \nMill Hall Borough Residents Only \n\nFor more information:\nContact the Mill Hall Borough office at 570-726-4008 or MillHallBorough@comcast.net. \nEvent is sponsored by Mill Hall Borough. \n\n 
URL:https://millhallboroughpa.org/event/tire-collection-may-7-2026/
ATTACH;FMTTYPE=image/jpeg:https://millhallboroughpa.org/wp-content/uploads/2025/03/Tire-Collection_Mill-Hall-Borough.jpg
END:VEVENT
BEGIN:VEVENT
DTSTART;TZID=America/New_York:20260511T190000
DTEND;TZID=America/New_York:20260511T190000
DTSTAMP:20260423T180008
CREATED:20251217T170839Z
LAST-MODIFIED:20251217T170844Z
UID:1251-1778526000-1778526000@millhallboroughpa.org
SUMMARY:Sewer/Highway Committee-May 11\, 2026
DESCRIPTION:Sewer/Highway Meetings are held the 2nd Monday of each month at 7:00 p.m. at Mill Hall borough building\, 215 Beech Creek Avenue\, Mill Hall\, PA 17751.
URL:https://millhallboroughpa.org/event/sewer-highway-committee-may-11-2026/
ATTACH;FMTTYPE=image/jpeg:https://millhallboroughpa.org/wp-content/uploads/2025/02/Mill-Hall-Borough-Pennsylvania-Logo.jpg
END:VEVENT
BEGIN:VEVENT
DTSTART;TZID=America/New_York:20260513T190000
DTEND;TZID=America/New_York:20260513T190000
DTSTAMP:20260423T180008
CREATED:20251217T173647Z
LAST-MODIFIED:20251217T173651Z
UID:1277-1778698800-1778698800@millhallboroughpa.org
SUMMARY:Park & Recreation and Ordinance Committees-May 13\, 2026
DESCRIPTION:Park & Recreation and Ordinance Committees are held the 2nd Wednesday of each month at 7:00 p.m. at Mill Hall borough building\, 215 Beech Creek Avenue\, Mill Hall\, PA 17751.
URL:https://millhallboroughpa.org/event/park-recreation-and-ordinance-committees-may-13-2026/
ATTACH;FMTTYPE=image/jpeg:https://millhallboroughpa.org/wp-content/uploads/2025/02/Mill-Hall-Borough-Pennsylvania-Logo.jpg
END:VEVENT
BEGIN:VEVENT
DTSTART;TZID=America/New_York:20260520T190000
DTEND;TZID=America/New_York:20260520T190000
DTSTAMP:20260423T180008
CREATED:20251217T175318Z
LAST-MODIFIED:20251217T175323Z
UID:1301-1779303600-1779303600@millhallboroughpa.org
SUMMARY:Safety and Personnel Committees-May 20\, 2026
DESCRIPTION:Safety and Personnel Committees are held the 3rd Wednesday of each month at 7:00 p.m. at Mill Hall borough building\, 215 Beech Creek Avenue\, Mill Hall\, PA 17751.
URL:https://millhallboroughpa.org/event/safety-and-personnel-committees-may-20-2026/
ATTACH;FMTTYPE=image/jpeg:https://millhallboroughpa.org/wp-content/uploads/2025/02/Mill-Hall-Borough-Pennsylvania-Logo.jpg
END:VEVENT
BEGIN:VEVENT
DTSTART;VALUE=DATE:20260525
DTEND;VALUE=DATE:20260526
DTSTAMP:20260423T180008
CREATED:20251217T180807Z
LAST-MODIFIED:20251217T180811Z
UID:1316-1779667200-1779753599@millhallboroughpa.org
SUMMARY:Borough Office Closed
DESCRIPTION:The Mill Hall Borough Office is Closed Today for the Holiday.
URL:https://millhallboroughpa.org/event/borough-office-closed-6/
ATTACH;FMTTYPE=image/jpeg:https://millhallboroughpa.org/wp-content/uploads/2025/02/Mill-Hall-Borough-Pennsylvania-Logo.jpg
END:VEVENT
BEGIN:VEVENT
DTSTART;TZID=America/New_York:20260526T190000
DTEND;TZID=America/New_York:20260526T190000
DTSTAMP:20260423T180008
CREATED:20251217T162313Z
LAST-MODIFIED:20251217T162318Z
UID:1226-1779822000-1779822000@millhallboroughpa.org
SUMMARY:Council Meeting - May 26
DESCRIPTION:Come find out all that is happening in Mill Hall Borough! We love seeing our residents every fourth Tuesday of the month. 215 Beech Creek Avenue\, Mill Hall\, PA 17751.
URL:https://millhallboroughpa.org/event/council-meeting-may-26/
ATTACH;FMTTYPE=image/jpeg:https://millhallboroughpa.org/wp-content/uploads/2025/02/Mill-Hall-Borough-Pennsylvania-Logo.jpg
END:VEVENT
BEGIN:VEVENT
DTSTART;TZID=America/New_York:20260608T190000
DTEND;TZID=America/New_York:20260608T190000
DTSTAMP:20260423T180008
CREATED:20251217T170944Z
LAST-MODIFIED:20251217T171037Z
UID:1253-1780945200-1780945200@millhallboroughpa.org
SUMMARY:Sewer/Highway Committee-Jun 8\, 2026
DESCRIPTION:Sewer/Highway Committee Meetings are held the 2nd Monday of each month at 7:00 p.m. at Mill Hall borough building\, 215 Beech Creek Avenue\, Mill Hall\, PA 17751.
URL:https://millhallboroughpa.org/event/ordinance-committee-jun-8-2026/
ATTACH;FMTTYPE=image/jpeg:https://millhallboroughpa.org/wp-content/uploads/2025/02/Mill-Hall-Borough-Pennsylvania-Logo.jpg
END:VEVENT
BEGIN:VEVENT
DTSTART;TZID=America/New_York:20260610T190000
DTEND;TZID=America/New_York:20260610T190000
DTSTAMP:20260423T180008
CREATED:20251217T173733Z
LAST-MODIFIED:20251217T180508Z
UID:1279-1781118000-1781118000@millhallboroughpa.org
SUMMARY:Park & Recreation and Ordinance Committees-June 10\, 2026
DESCRIPTION:Park & Recreation and Ordinance Committees are held the 2nd Wednesday of each month at 7:00 p.m. at Mill Hall borough building\, 215 Beech Creek Avenue\, Mill Hall\, PA 17751.
URL:https://millhallboroughpa.org/event/park-recreation-and-ordinance-committees-june-10-2026/
ATTACH;FMTTYPE=image/jpeg:https://millhallboroughpa.org/wp-content/uploads/2025/02/Mill-Hall-Borough-Pennsylvania-Logo.jpg
END:VEVENT
BEGIN:VEVENT
DTSTART;TZID=America/New_York:20260617T190000
DTEND;TZID=America/New_York:20260617T190000
DTSTAMP:20260423T180008
CREATED:20251217T175409Z
LAST-MODIFIED:20251217T175413Z
UID:1303-1781722800-1781722800@millhallboroughpa.org
SUMMARY:Safety and Personnel Committees-June 17\, 2026
DESCRIPTION:Safety and Personnel Committees are held the 3rd Wednesday of each month at 7:00 p.m. at Mill Hall borough building\, 215 Beech Creek Avenue\, Mill Hall\, PA 17751.
URL:https://millhallboroughpa.org/event/safety-and-personnel-committees-june-17-2026/
ATTACH;FMTTYPE=image/jpeg:https://millhallboroughpa.org/wp-content/uploads/2025/02/Mill-Hall-Borough-Pennsylvania-Logo.jpg
END:VEVENT
END:VCALENDAR