BEGIN:VCALENDAR
VERSION:2.0
PRODID:-//Mill Hall Borough - ECPv6.15.20//NONSGML v1.0//EN
CALSCALE:GREGORIAN
METHOD:PUBLISH
X-WR-CALNAME:Mill Hall Borough
X-ORIGINAL-URL:https://millhallboroughpa.org
X-WR-CALDESC:Events for Mill Hall Borough
REFRESH-INTERVAL;VALUE=DURATION:PT1H
X-Robots-Tag:noindex
X-PUBLISHED-TTL:PT1H
BEGIN:VTIMEZONE
TZID:America/New_York
BEGIN:DAYLIGHT
TZOFFSETFROM:-0500
TZOFFSETTO:-0400
TZNAME:EDT
DTSTART:20240310T070000
END:DAYLIGHT
BEGIN:STANDARD
TZOFFSETFROM:-0400
TZOFFSETTO:-0500
TZNAME:EST
DTSTART:20241103T060000
END:STANDARD
BEGIN:DAYLIGHT
TZOFFSETFROM:-0500
TZOFFSETTO:-0400
TZNAME:EDT
DTSTART:20250309T070000
END:DAYLIGHT
BEGIN:STANDARD
TZOFFSETFROM:-0400
TZOFFSETTO:-0500
TZNAME:EST
DTSTART:20251102T060000
END:STANDARD
BEGIN:DAYLIGHT
TZOFFSETFROM:-0500
TZOFFSETTO:-0400
TZNAME:EDT
DTSTART:20260308T070000
END:DAYLIGHT
BEGIN:STANDARD
TZOFFSETFROM:-0400
TZOFFSETTO:-0500
TZNAME:EST
DTSTART:20261101T060000
END:STANDARD
END:VTIMEZONE
BEGIN:VEVENT
DTSTART;TZID=America/New_York:20250310T190000
DTEND;TZID=America/New_York:20250310T200000
DTSTAMP:20260424T101304
CREATED:20250423T190822Z
LAST-MODIFIED:20250423T190822Z
UID:656-1741633200-1741636800@millhallboroughpa.org
SUMMARY:Sewer/Highway Committee-March 10\, 2025
DESCRIPTION:Sewer/Highway Meetings are held the 2nd Monday of each month at 7:00 p.m. at Mill Hall borough building\, 215 Beech Creek Avenue\, Mill Hall\, PA 17751.
URL:https://millhallboroughpa.org/event/sewer-highway-committee-march-10-2025/
LOCATION:Mill Hall Borough Office\, 215 Beech Creek Avenue\, Mill Hall\, PA\, 17751
ATTACH;FMTTYPE=image/jpeg:https://millhallboroughpa.org/wp-content/uploads/2025/02/Mill-Hall-Borough-Pennsylvania-Logo.jpg
END:VEVENT
BEGIN:VEVENT
DTSTART;TZID=America/New_York:20250312T190000
DTEND;TZID=America/New_York:20250312T200000
DTSTAMP:20260424T101304
CREATED:20250423T193436Z
LAST-MODIFIED:20250423T193436Z
UID:706-1741806000-1741809600@millhallboroughpa.org
SUMMARY:Park & Recreation Committee-March 12\, 2025
DESCRIPTION:Park & Recreation Committee Meetings are held the 2nd Wednesday of each month at 7:00 p.m. at Mill Hall borough building\, 215 Beech Creek Avenue\, Mill Hall\, PA 17751.
URL:https://millhallboroughpa.org/event/park-recreation-committee-march-12-2025/
LOCATION:Mill Hall Borough Office\, 215 Beech Creek Avenue\, Mill Hall\, PA\, 17751
ATTACH;FMTTYPE=image/jpeg:https://millhallboroughpa.org/wp-content/uploads/2025/02/Mill-Hall-Borough-Pennsylvania-Logo.jpg
END:VEVENT
BEGIN:VEVENT
DTSTART;TZID=America/New_York:20250313T190000
DTEND;TZID=America/New_York:20250313T200000
DTSTAMP:20260424T101304
CREATED:20250423T192337Z
LAST-MODIFIED:20250423T192337Z
UID:682-1741892400-1741896000@millhallboroughpa.org
SUMMARY:Ordinance Committee-March 13\, 2025
DESCRIPTION:Ordinance Committee Meetings are held the 2nd Thursday of each month at 7:00 p.m. at Mill Hall borough building\, 215 Beech Creek Avenue\, Mill Hall\, PA 17751.
URL:https://millhallboroughpa.org/event/ordinance-committee-march-13-2025/
LOCATION:Mill Hall Borough Office\, 215 Beech Creek Avenue\, Mill Hall\, PA\, 17751
ATTACH;FMTTYPE=image/jpeg:https://millhallboroughpa.org/wp-content/uploads/2025/02/Mill-Hall-Borough-Pennsylvania-Logo.jpg
END:VEVENT
BEGIN:VEVENT
DTSTART;TZID=America/New_York:20250319T190000
DTEND;TZID=America/New_York:20250319T200000
DTSTAMP:20260424T101304
CREATED:20250423T195716Z
LAST-MODIFIED:20250423T195716Z
UID:754-1742410800-1742414400@millhallboroughpa.org
SUMMARY:Safety Committee-March 19\, 2025
DESCRIPTION:Safety Committee Meetings are held the 3rd Wednesday of each month at 7:00 p.m. at Mill Hall borough building\, 215 Beech Creek Avenue\, Mill Hall\, PA 17751.
URL:https://millhallboroughpa.org/event/safety-committee-march-19-2025/
LOCATION:Mill Hall Borough Office\, 215 Beech Creek Avenue\, Mill Hall\, PA\, 17751
ATTACH;FMTTYPE=image/jpeg:https://millhallboroughpa.org/wp-content/uploads/2025/02/Mill-Hall-Borough-Pennsylvania-Logo.jpg
END:VEVENT
BEGIN:VEVENT
DTSTART;TZID=America/New_York:20250320T190000
DTEND;TZID=America/New_York:20250320T200000
DTSTAMP:20260424T101304
CREATED:20250423T194637Z
LAST-MODIFIED:20250423T194637Z
UID:730-1742497200-1742500800@millhallboroughpa.org
SUMMARY:Personnel Committee-March 20\, 2025
DESCRIPTION:Personnel Committee Meetings are held the 3rd Thursday of each month at 7:00 p.m. at Mill Hall borough building\, 215 Beech Creek Avenue\, Mill Hall\, PA 17751.
URL:https://millhallboroughpa.org/event/personnel-committee-march-20-2025/
ATTACH;FMTTYPE=image/jpeg:https://millhallboroughpa.org/wp-content/uploads/2025/02/Mill-Hall-Borough-Pennsylvania-Logo.jpg
END:VEVENT
BEGIN:VEVENT
DTSTART;TZID=America/New_York:20250325T190000
DTEND;TZID=America/New_York:20250325T200000
DTSTAMP:20260424T101304
CREATED:20250302T235334Z
LAST-MODIFIED:20250303T215343Z
UID:273-1742929200-1742932800@millhallboroughpa.org
SUMMARY:Council Meeting - March 2025
DESCRIPTION:Come find out all that is happening in Mill Hall Borough! We love seeing our residents every fourth Tuesday of the month. Our next township meeting is Tuesday\, March 25\, 2025 at 7:00 p.m. at our borough building\, 215 Beech Creek Avenue\, Mill Hall\, PA 17751.
URL:https://millhallboroughpa.org/event/council-meeting-march-2025/
LOCATION:Mill Hall Borough Office\, 215 Beech Creek Avenue\, Mill Hall\, PA\, 17751
ATTACH;FMTTYPE=image/jpeg:https://millhallboroughpa.org/wp-content/uploads/2025/02/Mill-Hall-Borough-Pennsylvania-Logo.jpg
END:VEVENT
BEGIN:VEVENT
DTSTART;TZID=America/New_York:20250409T190000
DTEND;TZID=America/New_York:20250409T200000
DTSTAMP:20260424T101304
CREATED:20250423T193531Z
LAST-MODIFIED:20250423T193531Z
UID:708-1744225200-1744228800@millhallboroughpa.org
SUMMARY:Park & Recreation Committee-April 9\, 2025
DESCRIPTION:Park & Recreation Committee Meetings are held the 2nd Wednesday of each month at 7:00 p.m. at Mill Hall borough building\, 215 Beech Creek Avenue\, Mill Hall\, PA 17751.
URL:https://millhallboroughpa.org/event/park-recreation-committee-april-9-2025/
LOCATION:Mill Hall Borough Office\, 215 Beech Creek Avenue\, Mill Hall\, PA\, 17751
ATTACH;FMTTYPE=image/jpeg:https://millhallboroughpa.org/wp-content/uploads/2025/02/Mill-Hall-Borough-Pennsylvania-Logo.jpg
END:VEVENT
BEGIN:VEVENT
DTSTART;TZID=America/New_York:20250410T190000
DTEND;TZID=America/New_York:20250410T200000
DTSTAMP:20260424T101304
CREATED:20250423T192422Z
LAST-MODIFIED:20250423T192422Z
UID:684-1744311600-1744315200@millhallboroughpa.org
SUMMARY:Ordinance Committee-April 10\, 2025
DESCRIPTION:Ordinance Committee Meetings are held the 2nd Thursday of each month at 7:00 p.m. at Mill Hall borough building\, 215 Beech Creek Avenue\, Mill Hall\, PA 17751.
URL:https://millhallboroughpa.org/event/ordinance-committee-april-10-2025/
LOCATION:Mill Hall Borough Office\, 215 Beech Creek Avenue\, Mill Hall\, PA\, 17751
ATTACH;FMTTYPE=image/jpeg:https://millhallboroughpa.org/wp-content/uploads/2025/02/Mill-Hall-Borough-Pennsylvania-Logo.jpg
END:VEVENT
BEGIN:VEVENT
DTSTART;TZID=America/New_York:20250414T190000
DTEND;TZID=America/New_York:20250414T200000
DTSTAMP:20260424T101304
CREATED:20250423T190920Z
LAST-MODIFIED:20250423T190920Z
UID:658-1744657200-1744660800@millhallboroughpa.org
SUMMARY:Sewer/Highway Committee-April 14\, 2025
DESCRIPTION:Sewer/Highway Meetings are held the 2nd Monday of each month at 7:00 p.m. at Mill Hall borough building\, 215 Beech Creek Avenue\, Mill Hall\, PA 17751.
URL:https://millhallboroughpa.org/event/sewer-highway-committee-april-14-2025/
LOCATION:Mill Hall Borough Office\, 215 Beech Creek Avenue\, Mill Hall\, PA\, 17751
ATTACH;FMTTYPE=image/jpeg:https://millhallboroughpa.org/wp-content/uploads/2025/02/Mill-Hall-Borough-Pennsylvania-Logo.jpg
END:VEVENT
BEGIN:VEVENT
DTSTART;TZID=America/New_York:20250416T190000
DTEND;TZID=America/New_York:20250416T200000
DTSTAMP:20260424T101304
CREATED:20250423T195819Z
LAST-MODIFIED:20250423T195819Z
UID:756-1744830000-1744833600@millhallboroughpa.org
SUMMARY:Safety Committee-April 16\, 2025
DESCRIPTION:Safety Committee Meetings are held the 3rd Wednesday of each month at 7:00 p.m. at Mill Hall borough building\, 215 Beech Creek Avenue\, Mill Hall\, PA 17751.
URL:https://millhallboroughpa.org/event/safety-committee-april-16-2025/
LOCATION:Mill Hall Borough Office\, 215 Beech Creek Avenue\, Mill Hall\, PA\, 17751
ATTACH;FMTTYPE=image/jpeg:https://millhallboroughpa.org/wp-content/uploads/2025/02/Mill-Hall-Borough-Pennsylvania-Logo.jpg
END:VEVENT
BEGIN:VEVENT
DTSTART;TZID=America/New_York:20250417T190000
DTEND;TZID=America/New_York:20250417T200000
DTSTAMP:20260424T101304
CREATED:20250423T194720Z
LAST-MODIFIED:20250423T194720Z
UID:732-1744916400-1744920000@millhallboroughpa.org
SUMMARY:Personnel Committee-April 17\, 2025
DESCRIPTION:Personnel Committee Meetings are held the 3rd Thursday of each month at 7:00 p.m. at Mill Hall borough building\, 215 Beech Creek Avenue\, Mill Hall\, PA 17751.
URL:https://millhallboroughpa.org/event/personnel-committee-april-17-2025/
LOCATION:Mill Hall Borough Office\, 215 Beech Creek Avenue\, Mill Hall\, PA\, 17751
ATTACH;FMTTYPE=image/jpeg:https://millhallboroughpa.org/wp-content/uploads/2025/02/Mill-Hall-Borough-Pennsylvania-Logo.jpg
END:VEVENT
BEGIN:VEVENT
DTSTART;TZID=America/New_York:20250422T190000
DTEND;TZID=America/New_York:20250422T200000
DTSTAMP:20260424T101304
CREATED:20250302T235755Z
LAST-MODIFIED:20250303T215343Z
UID:276-1745348400-1745352000@millhallboroughpa.org
SUMMARY:Council Meeting - April 2025
DESCRIPTION:Come find out all that is happening in Mill Hall Borough! We love seeing our residents every fourth Tuesday of the month. Our next township meeting is Tuesday\, April 22\, 2025 at 7:00 p.m. at our borough building\, 215 Beech Creek Avenue\, Mill Hall\, PA 17751.
URL:https://millhallboroughpa.org/event/council-meeting-april-2025/
LOCATION:Mill Hall Borough Office\, 215 Beech Creek Avenue\, Mill Hall\, PA\, 17751
ATTACH;FMTTYPE=image/jpeg:https://millhallboroughpa.org/wp-content/uploads/2025/02/Mill-Hall-Borough-Pennsylvania-Logo.jpg
END:VEVENT
BEGIN:VEVENT
DTSTART;TZID=America/New_York:20250504T090000
DTEND;TZID=America/New_York:20250504T110000
DTSTAMP:20260424T101304
CREATED:20250425T172207Z
LAST-MODIFIED:20250425T172555Z
UID:814-1746349200-1746356400@millhallboroughpa.org
SUMMARY:Bridge to Bridge Run 2025
DESCRIPTION:Mill Hall Borough residents should be aware that the Annual Collins/Tobos Bridge to Bridge Run will be held on May 4\, 2025 starting at 9am in the Borough.  Watch for congested areas around that time. \nTo register or sponsor the event: https://www.bikesignup.com/Race/PA/LockHaven/BridgeToBridgeRun \n\nFor more information:\nContact the Mill Hall Borough office at 570-726-4008 or MillHallBorough@comcast.net. \nEvent is sponsored by Mill Hall Borough. \n\n 
URL:https://millhallboroughpa.org/event/bridge-to-bridge-run-2025/
ATTACH;FMTTYPE=image/png:https://millhallboroughpa.org/wp-content/uploads/2025/04/Bridge-to-Bridge-Run-2025.png
END:VEVENT
BEGIN:VEVENT
DTSTART;TZID=America/New_York:20250508T070000
DTEND;TZID=America/New_York:20250508T140000
DTSTAMP:20260424T101304
CREATED:20250303T203336Z
LAST-MODIFIED:20250423T200928Z
UID:320-1746687600-1746712800@millhallboroughpa.org
SUMMARY:Tire Collection - May 8\, 2025
DESCRIPTION:Mill Hall Borough residents\, it’s time to recycle your tires! Bring your tires to the Borough Building on May 8\, 2025 from 7:00 a.m. – 2:00 p.m. or May 9\, 2025 from 7:00 a.m. – 11:00 a.m. Limit is 12 tires per resident. Not open to tire dealers\, service station operators\, repair garages\, tire sales outlets\, or similar facilities. You must provide your name\, address\, and number of tires at drop off. \nMill Hall Borough Residents Only \n\nFor more information:\nContact the Mill Hall Borough office at 570-726-4008 or MillHallBorough@comcast.net. \nEvent is sponsored by Mill Hall Borough. \n\n 
URL:https://millhallboroughpa.org/event/tire-collection-may-2025/
LOCATION:Mill Hall Borough Office\, 215 Beech Creek Avenue\, Mill Hall\, PA\, 17751
ATTACH;FMTTYPE=image/jpeg:https://millhallboroughpa.org/wp-content/uploads/2025/03/Tire-Collection_Mill-Hall-Borough.jpg
END:VEVENT
BEGIN:VEVENT
DTSTART;TZID=America/New_York:20250508T183000
DTEND;TZID=America/New_York:20250508T190000
DTSTAMP:20260424T101304
CREATED:20250505T183443Z
LAST-MODIFIED:20250505T183745Z
UID:843-1746729000-1746730800@millhallboroughpa.org
SUMMARY:Council Meeting - May 8\, 2025 SPECIAL MEETING
DESCRIPTION:A special council meeting will be held on May 8\, 2025 at 7:00 p.m. at our borough building\, 215 Beech Creek Avenue\, Mill Hall\, PA 17751.  Items to be discussed will be approving agreement with Codes Officer and reviewing fee schedule for 2025.
URL:https://millhallboroughpa.org/event/council-meeting-may-8-2025-special-meeting/
LOCATION:Mill Hall Borough Office\, 215 Beech Creek Avenue\, Mill Hall\, PA\, 17751
ATTACH;FMTTYPE=image/jpeg:https://millhallboroughpa.org/wp-content/uploads/2025/02/Mill-Hall-Borough-Pennsylvania-Logo.jpg
END:VEVENT
BEGIN:VEVENT
DTSTART;TZID=America/New_York:20250508T190000
DTEND;TZID=America/New_York:20250508T200000
DTSTAMP:20260424T101304
CREATED:20250423T192504Z
LAST-MODIFIED:20250423T192504Z
UID:686-1746730800-1746734400@millhallboroughpa.org
SUMMARY:Ordinance Committee-May 8\, 2025
DESCRIPTION:Ordinance Committee Meetings are held the 2nd Thursday of each month at 7:00 p.m. at Mill Hall borough building\, 215 Beech Creek Avenue\, Mill Hall\, PA 17751.
URL:https://millhallboroughpa.org/event/ordinance-committee-may-8-2025/
LOCATION:Mill Hall Borough Office\, 215 Beech Creek Avenue\, Mill Hall\, PA\, 17751
ATTACH;FMTTYPE=image/jpeg:https://millhallboroughpa.org/wp-content/uploads/2025/02/Mill-Hall-Borough-Pennsylvania-Logo.jpg
END:VEVENT
BEGIN:VEVENT
DTSTART;TZID=America/New_York:20250509T070000
DTEND;TZID=America/New_York:20250509T110000
DTSTAMP:20260424T101304
CREATED:20250423T200906Z
LAST-MODIFIED:20250423T201023Z
UID:774-1746774000-1746788400@millhallboroughpa.org
SUMMARY:Tire Collection - May 9\, 2025
DESCRIPTION:Mill Hall Borough residents\, it’s time to recycle your tires! Bring your tires to the Borough Building on May 8\, 2025 from 7:00 a.m. – 2:00 p.m. or May 9\, 2025 from 7:00 a.m. – 11:00 a.m. Limit is 12 tires per resident. Not open to tire dealers\, service station operators\, repair garages\, tire sales outlets\, or similar facilities. You must provide your name\, address\, and number of tires at drop off. \nMill Hall Borough Residents Only \n\nFor more information:\nContact the Mill Hall Borough office at 570-726-4008 or MillHallBorough@comcast.net. \nEvent is sponsored by Mill Hall Borough. \n\n 
URL:https://millhallboroughpa.org/event/tire-collection-may-9-2025/
LOCATION:Mill Hall Borough Office\, 215 Beech Creek Avenue\, Mill Hall\, PA\, 17751
ATTACH;FMTTYPE=image/jpeg:https://millhallboroughpa.org/wp-content/uploads/2025/03/Tire-Collection_Mill-Hall-Borough.jpg
END:VEVENT
BEGIN:VEVENT
DTSTART;TZID=America/New_York:20250512T190000
DTEND;TZID=America/New_York:20250512T200000
DTSTAMP:20260424T101304
CREATED:20250423T191018Z
LAST-MODIFIED:20250423T191018Z
UID:660-1747076400-1747080000@millhallboroughpa.org
SUMMARY:Sewer/Highway Committee-May 12\, 2025
DESCRIPTION:Sewer/Highway Meetings are held the 2nd Monday of each month at 7:00 p.m. at Mill Hall borough building\, 215 Beech Creek Avenue\, Mill Hall\, PA 17751.
URL:https://millhallboroughpa.org/event/sewer-highway-committee-may-12-2025/
LOCATION:Mill Hall Borough Office\, 215 Beech Creek Avenue\, Mill Hall\, PA\, 17751
ATTACH;FMTTYPE=image/jpeg:https://millhallboroughpa.org/wp-content/uploads/2025/02/Mill-Hall-Borough-Pennsylvania-Logo.jpg
END:VEVENT
BEGIN:VEVENT
DTSTART;TZID=America/New_York:20250514T190000
DTEND;TZID=America/New_York:20250514T200000
DTSTAMP:20260424T101304
CREATED:20250423T193617Z
LAST-MODIFIED:20250423T193617Z
UID:710-1747249200-1747252800@millhallboroughpa.org
SUMMARY:Park & Recreation Committee-May 14\, 2025
DESCRIPTION:Park & Recreation Committee Meetings are held the 2nd Wednesday of each month at 7:00 p.m. at Mill Hall borough building\, 215 Beech Creek Avenue\, Mill Hall\, PA 17751.
URL:https://millhallboroughpa.org/event/park-recreation-committee-may-14-2025/
LOCATION:Mill Hall Borough Office\, 215 Beech Creek Avenue\, Mill Hall\, PA\, 17751
ATTACH;FMTTYPE=image/jpeg:https://millhallboroughpa.org/wp-content/uploads/2025/02/Mill-Hall-Borough-Pennsylvania-Logo.jpg
END:VEVENT
BEGIN:VEVENT
DTSTART;TZID=America/New_York:20250515T190000
DTEND;TZID=America/New_York:20250515T200000
DTSTAMP:20260424T101304
CREATED:20250423T194759Z
LAST-MODIFIED:20250423T194759Z
UID:734-1747335600-1747339200@millhallboroughpa.org
SUMMARY:Personnel Committee-May 15\, 2025
DESCRIPTION:Personnel Committee Meetings are held the 3rd Thursday of each month at 7:00 p.m. at Mill Hall borough building\, 215 Beech Creek Avenue\, Mill Hall\, PA 17751.
URL:https://millhallboroughpa.org/event/personnel-committee-may-15-2025/
LOCATION:Mill Hall Borough Office\, 215 Beech Creek Avenue\, Mill Hall\, PA\, 17751
ATTACH;FMTTYPE=image/jpeg:https://millhallboroughpa.org/wp-content/uploads/2025/02/Mill-Hall-Borough-Pennsylvania-Logo.jpg
END:VEVENT
BEGIN:VEVENT
DTSTART;TZID=America/New_York:20250521T190000
DTEND;TZID=America/New_York:20250521T200000
DTSTAMP:20260424T101304
CREATED:20250423T195927Z
LAST-MODIFIED:20250423T195927Z
UID:758-1747854000-1747857600@millhallboroughpa.org
SUMMARY:Safety Committee-May 21\, 2025
DESCRIPTION:Safety Committee Meetings are held the 3rd Wednesday of each month at 7:00 p.m. at Mill Hall borough building\, 215 Beech Creek Avenue\, Mill Hall\, PA 17751.
URL:https://millhallboroughpa.org/event/safety-committee-may-21-2025/
LOCATION:Mill Hall Borough Office\, 215 Beech Creek Avenue\, Mill Hall\, PA\, 17751
ATTACH;FMTTYPE=image/jpeg:https://millhallboroughpa.org/wp-content/uploads/2025/02/Mill-Hall-Borough-Pennsylvania-Logo.jpg
END:VEVENT
BEGIN:VEVENT
DTSTART;TZID=America/New_York:20250527T190000
DTEND;TZID=America/New_York:20250527T200000
DTSTAMP:20260424T101304
CREATED:20250302T235904Z
LAST-MODIFIED:20250423T175302Z
UID:278-1748372400-1748376000@millhallboroughpa.org
SUMMARY:Council Meeting - May 2025
DESCRIPTION:Come find out all that is happening in Mill Hall Borough! We love seeing our residents every fourth Tuesday of the month. Our next township meeting is Tuesday\, May 27\, 2025 at 7:00 p.m. at our borough building\, 215 Beech Creek Avenue\, Mill Hall\, PA 17751.
URL:https://millhallboroughpa.org/event/council-meeting-may-2025/
LOCATION:Mill Hall Borough Office\, 215 Beech Creek Avenue\, Mill Hall\, PA\, 17751
ATTACH;FMTTYPE=image/jpeg:https://millhallboroughpa.org/wp-content/uploads/2025/02/Mill-Hall-Borough-Pennsylvania-Logo.jpg
END:VEVENT
BEGIN:VEVENT
DTSTART;TZID=America/New_York:20250609T190000
DTEND;TZID=America/New_York:20250609T200000
DTSTAMP:20260424T101304
CREATED:20250423T191129Z
LAST-MODIFIED:20250423T191129Z
UID:662-1749495600-1749499200@millhallboroughpa.org
SUMMARY:Sewer/Highway Committee-June 9\, 2025
DESCRIPTION:Sewer/Highway Meetings are held the 2nd Monday of each month at 7:00 p.m. at Mill Hall borough building\, 215 Beech Creek Avenue\, Mill Hall\, PA 17751.
URL:https://millhallboroughpa.org/event/sewer-highway-committee-june-9-2025/
LOCATION:Mill Hall Borough Office\, 215 Beech Creek Avenue\, Mill Hall\, PA\, 17751
ATTACH;FMTTYPE=image/jpeg:https://millhallboroughpa.org/wp-content/uploads/2025/02/Mill-Hall-Borough-Pennsylvania-Logo.jpg
END:VEVENT
BEGIN:VEVENT
DTSTART;TZID=America/New_York:20250611T190000
DTEND;TZID=America/New_York:20250611T200000
DTSTAMP:20260424T101304
CREATED:20250423T193713Z
LAST-MODIFIED:20250423T193713Z
UID:712-1749668400-1749672000@millhallboroughpa.org
SUMMARY:Park & Recreation Committee-June 11\, 2025
DESCRIPTION:Park & Recreation Committee Meetings are held the 2nd Wednesday of each month at 7:00 p.m. at Mill Hall borough building\, 215 Beech Creek Avenue\, Mill Hall\, PA 17751.
URL:https://millhallboroughpa.org/event/park-recreation-committee-june-11-2025/
LOCATION:Mill Hall Borough Office\, 215 Beech Creek Avenue\, Mill Hall\, PA\, 17751
ATTACH;FMTTYPE=image/jpeg:https://millhallboroughpa.org/wp-content/uploads/2025/02/Mill-Hall-Borough-Pennsylvania-Logo.jpg
END:VEVENT
BEGIN:VEVENT
DTSTART;TZID=America/New_York:20250612T190000
DTEND;TZID=America/New_York:20250612T200000
DTSTAMP:20260424T101304
CREATED:20250423T192554Z
LAST-MODIFIED:20250423T192554Z
UID:688-1749754800-1749758400@millhallboroughpa.org
SUMMARY:Ordinance Committee-June 12\, 2025
DESCRIPTION:Ordinance Committee Meetings are held the 2nd Thursday of each month at 7:00 p.m. at Mill Hall borough building\, 215 Beech Creek Avenue\, Mill Hall\, PA 17751.
URL:https://millhallboroughpa.org/event/ordinance-committee-june-12-2025/
LOCATION:Mill Hall Borough Office\, 215 Beech Creek Avenue\, Mill Hall\, PA\, 17751
ATTACH;FMTTYPE=image/jpeg:https://millhallboroughpa.org/wp-content/uploads/2025/02/Mill-Hall-Borough-Pennsylvania-Logo.jpg
END:VEVENT
BEGIN:VEVENT
DTSTART;TZID=America/New_York:20250615T070000
DTEND;TZID=America/New_York:20250615T140000
DTSTAMP:20260424T101304
CREATED:20250425T180738Z
LAST-MODIFIED:20250425T180738Z
UID:818-1749970800-1749996000@millhallboroughpa.org
SUMMARY:IRONMAN 2025
DESCRIPTION:Mill Hall Borough residents should be aware that the IRONMAN race will be held on June 15\, 2025 starting at 7am-2pm in the Borough.  Watch for congested areas around that time. \nFor more information on the event: https://www.ironman.com/races/im703-pennsylvania \n\nFor more information:\nContact the Mill Hall Borough office at 570-726-4008 or MillHallBorough@comcast.net. \nEvent is sponsored by Mill Hall Borough. \n\n 
URL:https://millhallboroughpa.org/event/ironman-2025/
ATTACH;FMTTYPE=image/png:https://millhallboroughpa.org/wp-content/uploads/2025/04/iron-man-2025.png
END:VEVENT
BEGIN:VEVENT
DTSTART;TZID=America/New_York:20250618T190000
DTEND;TZID=America/New_York:20250618T200000
DTSTAMP:20260424T101304
CREATED:20250423T200006Z
LAST-MODIFIED:20250423T200006Z
UID:760-1750273200-1750276800@millhallboroughpa.org
SUMMARY:Safety Committee-June 18\, 2025
DESCRIPTION:Safety Committee Meetings are held the 3rd Wednesday of each month at 7:00 p.m. at Mill Hall borough building\, 215 Beech Creek Avenue\, Mill Hall\, PA 17751.
URL:https://millhallboroughpa.org/event/safety-committee-june-18-2025/
LOCATION:Mill Hall Borough Office\, 215 Beech Creek Avenue\, Mill Hall\, PA\, 17751
ATTACH;FMTTYPE=image/jpeg:https://millhallboroughpa.org/wp-content/uploads/2025/02/Mill-Hall-Borough-Pennsylvania-Logo.jpg
END:VEVENT
BEGIN:VEVENT
DTSTART;TZID=America/New_York:20250619T190000
DTEND;TZID=America/New_York:20250619T200000
DTSTAMP:20260424T101304
CREATED:20250423T194847Z
LAST-MODIFIED:20250423T194847Z
UID:736-1750359600-1750363200@millhallboroughpa.org
SUMMARY:Personnel Committee-June 19\, 2025
DESCRIPTION:Personnel Committee Meetings are held the 3rd Thursday of each month at 7:00 p.m. at Mill Hall borough building\, 215 Beech Creek Avenue\, Mill Hall\, PA 17751.
URL:https://millhallboroughpa.org/event/personnel-committee-june-19-2025/
LOCATION:Mill Hall Borough Office\, 215 Beech Creek Avenue\, Mill Hall\, PA\, 17751
ATTACH;FMTTYPE=image/jpeg:https://millhallboroughpa.org/wp-content/uploads/2025/02/Mill-Hall-Borough-Pennsylvania-Logo.jpg
END:VEVENT
BEGIN:VEVENT
DTSTART;TZID=America/New_York:20250624T190000
DTEND;TZID=America/New_York:20250624T200000
DTSTAMP:20260424T101304
CREATED:20250312T222816Z
LAST-MODIFIED:20250423T175306Z
UID:435-1750791600-1750795200@millhallboroughpa.org
SUMMARY:Council Meeting - June 2025
DESCRIPTION:Come find out all that is happening in Mill Hall Borough! We love seeing our residents every fourth Tuesday of the month. Our next township meeting is Tuesday\, June 24\, 2025 at 7:00 p.m. at our borough building\, 215 Beech Creek Avenue\, Mill Hall\, PA 17751.
URL:https://millhallboroughpa.org/event/council-meeting-june-2025/
LOCATION:Mill Hall Borough Office\, 215 Beech Creek Avenue\, Mill Hall\, PA\, 17751
ATTACH;FMTTYPE=image/jpeg:https://millhallboroughpa.org/wp-content/uploads/2025/02/Mill-Hall-Borough-Pennsylvania-Logo.jpg
END:VEVENT
BEGIN:VEVENT
DTSTART;TZID=America/New_York:20250709T190000
DTEND;TZID=America/New_York:20250709T200000
DTSTAMP:20260424T101304
CREATED:20250423T193807Z
LAST-MODIFIED:20250423T193807Z
UID:714-1752087600-1752091200@millhallboroughpa.org
SUMMARY:Park & Recreation Committee-July 9\, 2025
DESCRIPTION:Park & Recreation Committee Meetings are held the 2nd Wednesday of each month at 7:00 p.m. at Mill Hall borough building\, 215 Beech Creek Avenue\, Mill Hall\, PA 17751.
URL:https://millhallboroughpa.org/event/park-recreation-committee-july-9-2025/
LOCATION:Mill Hall Borough Office\, 215 Beech Creek Avenue\, Mill Hall\, PA\, 17751
ATTACH;FMTTYPE=image/jpeg:https://millhallboroughpa.org/wp-content/uploads/2025/02/Mill-Hall-Borough-Pennsylvania-Logo.jpg
END:VEVENT
END:VCALENDAR